BEGIN:VCALENDAR
VERSION:2.0
PRODID:-//Octubre Centre de Cultura Contemporània - ECPv5.1.6//NONSGML v1.0//EN
CALSCALE:GREGORIAN
METHOD:PUBLISH
X-WR-CALNAME:Octubre Centre de Cultura Contemporània
X-ORIGINAL-URL:https://octubre.cat
X-WR-CALDESC:Events for Octubre Centre de Cultura Contemporània
BEGIN:VTIMEZONE
TZID:Europe/Andorra
BEGIN:DAYLIGHT
TZOFFSETFROM:+0100
TZOFFSETTO:+0200
TZNAME:CEST
DTSTART:20220327T010000
END:DAYLIGHT
BEGIN:STANDARD
TZOFFSETFROM:+0200
TZOFFSETTO:+0100
TZNAME:CET
DTSTART:20221030T010000
END:STANDARD
END:VTIMEZONE
BEGIN:VEVENT
DTSTART;TZID=Europe/Andorra:20220617T200000
DTEND;TZID=Europe/Andorra:20220617T200000
DTSTAMP:20260420T202343
CREATED:20220513T154914Z
LAST-MODIFIED:20250624T100022Z
UID:18279-1655496000-1655496000@octubre.cat
SUMMARY:Concert-presentació de Topologías sonoras. Carlos Galán i Grupo Cosmos 21
DESCRIPTION:Presentació de Topologías sonoras (EdictOràlia\, València\, 456 p). Una acuradíssima edició on es fa un repàs a la creació musical des d’òptiques molt variades (poètica\, reflexiva\, crítica\, analítica\, acústica\, musical\, sociocultural…) dels 25 tipus de silenci\, 50 naturaleses de l’humor en la música\, 13 qualitats del so\, 22 veus de la veu\, 11 sambenets de la música contemporània… \nParticiparan a la presentació Josep Lluís Galiana (editor i improvisador)\, Llorenç Barber (compositor) i el mateix autor\, Carlos Galán. \n  \n \n  \nGRUPO COSMOS 21\, dir. Carlos Galán: Celebra la seua XXXV Temporada de concerts “Músicas del Cosmos 2022” després de recórrer la geografia espanyola en tots els seus festivals més importants i de realitzar gires per Itàlia\, Japó o Amèrica. El grup és pioner a Europa en la preparació i posada en escena i tres centenars de compositors li dediquen les seues obres. També han gravat per a RNE i TVE i una vintena de CD´s. \n  \n \n  \nCarlos Galán (Madrid (1963). Catedràtic d’improvisació al RCSMM\, és pianista\, compositor i director del grup Cosmos 21. Premis d’interpretació i composició. Té un centenar llarg d’obres escrites fruit d’encàrrecs i festivals internacionals de tot el món. Creador de la Música Matèrica\, sobre la qual ha impartit conferències per tot el món\, és motiu de mitja dotzena de tesines i TFM i la seua música està enregistrada a 8 cedés monogràfics. \n  \nPrograma del concert: \n—Duelo\, op 120\, Música Matérica LXV: Carlos Galán\n—Desig: Llorenç Barber\n—El peso de un ángel\, op 94\, Música Matérica XLII: Carlos Galán\n—Musica nuda: Llorenç Barber\n—Morse Gomero***: Carlos Cruz de Castro\n—Gomera\, op 122\, Música Matérica LXVII***: Carlos Galán\n—Peces músico-visuals (Guants – Bumerang – Madrigal – Carnaval): Josep M. Mestres Quadreny\n—Burlería\, op 118\, Música matérica LXIII: Carlos Galán\n[*** Estrena mundial] \nGrupo Cosmos 21: Vicente Martínez\, flautes; David Arenas\, clarinets; Luisa Muñoz\, percussió petita; Carlos Galán\, lira i direcció.
URL:https://octubre.cat/activitat/concert-presentacio-de-topologias-sonoras-carlos-galan-i-grupo-cosmos-21/
LOCATION:Hall
CATEGORIES:Literatura,Música
ATTACH;FMTTYPE=image/jpeg:https://octubre.cat/www/wp-content/uploads/2022/05/C21-2016-2.jpg
END:VEVENT
END:VCALENDAR