BEGIN:VCALENDAR
VERSION:2.0
PRODID:-//Octubre Centre de Cultura Contemporània - ECPv5.1.6//NONSGML v1.0//EN
CALSCALE:GREGORIAN
METHOD:PUBLISH
X-WR-CALNAME:Octubre Centre de Cultura Contemporània
X-ORIGINAL-URL:https://octubre.cat
X-WR-CALDESC:Events for Octubre Centre de Cultura Contemporània
BEGIN:VTIMEZONE
TZID:Europe/Andorra
BEGIN:DAYLIGHT
TZOFFSETFROM:+0100
TZOFFSETTO:+0200
TZNAME:CEST
DTSTART:20080330T010000
END:DAYLIGHT
BEGIN:STANDARD
TZOFFSETFROM:+0200
TZOFFSETTO:+0100
TZNAME:CET
DTSTART:20081026T010000
END:STANDARD
END:VTIMEZONE
BEGIN:VEVENT
DTSTART;TZID=Europe/Andorra:20081029T193000
DTEND;TZID=Europe/Andorra:20081029T193000
DTSTAMP:20260420T221641
CREATED:20200729T182038Z
LAST-MODIFIED:20200730T035841Z
UID:12678-1225308600-1225308600@octubre.cat
SUMMARY:Concert d'octubre
DESCRIPTION:Dimecres 29 d’octubre a les 19.30h: amb el quartet “A Piacere”  \n  \n  \n\n-LUDWING VAN BEETHOVEN (1770-1827) Quartet  Nº 2 en Sol Major\,Op 18  -FRAN PETER SCHUBERT (1797-1828) Quartet en la menor “Rosamunda” D804  Components: PATRICIA GENÍS\, violí ANA REQUENA\, violí MIQUEL FALOMIR\,viola ROSA GIL\,violoncel
URL:https://octubre.cat/activitat/concert-doctubre/
LOCATION:No definit
CATEGORIES:Cicle de Música de Cambra
ATTACH;FMTTYPE=image/jpeg:https://octubre.cat/www/wp-content/uploads/2020/07/musica1.jpg
END:VEVENT
END:VCALENDAR