BEGIN:VCALENDAR
VERSION:2.0
PRODID:-//Octubre Centre de Cultura Contemporània - ECPv5.1.6//NONSGML v1.0//EN
CALSCALE:GREGORIAN
METHOD:PUBLISH
X-WR-CALNAME:Octubre Centre de Cultura Contemporània
X-ORIGINAL-URL:https://octubre.cat
X-WR-CALDESC:Events for Octubre Centre de Cultura Contemporània
BEGIN:VTIMEZONE
TZID:Europe/Andorra
BEGIN:DAYLIGHT
TZOFFSETFROM:+0100
TZOFFSETTO:+0200
TZNAME:CEST
DTSTART:20070325T010000
END:DAYLIGHT
BEGIN:STANDARD
TZOFFSETFROM:+0200
TZOFFSETTO:+0100
TZNAME:CET
DTSTART:20071028T010000
END:STANDARD
END:VTIMEZONE
BEGIN:VEVENT
DTSTART;TZID=Europe/Andorra:20071121T200000
DTEND;TZID=Europe/Andorra:20071121T200000
DTSTAMP:20260420T210038
CREATED:20200729T181605Z
LAST-MODIFIED:20200730T035527Z
UID:12412-1195675200-1195675200@octubre.cat
SUMMARY:Concert d'Harmonia del Parnàs
DESCRIPTION:Dimecres 21\, 20 h. La cloenda de la primera jornada del II Simposi Internacional sobre els Borja vindrà de la mà d’Harmonia del Parnàs\, que interpretarà obres anteriors al 1800 amb instruments i criteris històrics\, respectant les particularitats estètiques i teòriques de cada lloc i període concret.   \n  \n  \n\nLa cloenda de la primera jornada del II Simposi Internacional sobre els Borja vindrà de la mà d’Harmonia del Parnàs\, que interpretarà obres anteriors al 1800 amb instruments i criteris històrics\, respectant les particularitats estètiques i teòriques de cada lloc i període concret.   El seu repertori\, escollit a partir de l’estudi musicològic de fonts musicals i documentals d’arxius i biblioteques de tot el món\, recull diferents gèneres i autors hispànics dels segles XV al XVIII i les seves interpretacions són el resultat d’un interessant exercici d’equilibri entre la recerca musicològica i la creativitat musical.  El programa del concert serà el següent: Al jorn del judici Música profana en temps dels Borja    Propinyan de Melyor …………………………………………… anònim Al jorn del judici ……………………………………………….. Bartomeu Càrceres Juyzio fuerte sera dado ………………………………………… Triana Donde estas que non te veo …………………………………….. Cornago Danza alta ……………………………………………………… F. de la Torre El triste que nunca ……………………………………………… Peñalosa Fata la parte ……………………………………………………. Juan del Encina   Pues vivo en perder ……………………………………………. Peñalosa Quien amores tiene ……………………….……………………. Juan Vásquez Tiento para arpa ………………………………………………… Alonso Mudarra Din dirindin …………………..………………………………… anònim O pellegrina …………………………………………………….. anònim Sospiros no me dejeis ………………………………………….. Badajoz   Del amor se va riendo / Del amor quexoso ……………………. Joan Brudieu O felici occhi miei ……………………………………………… Vincenzo Ruffo Mon père m’a donné mari ………………………………….….. anònim Quand’io penso al martire ……………………………………… Vincenzo Ruffo Zappay ……..…………………………………..……………… anònim El cervel mi fa nocte ………..………………………………… anònim   ——————-   Vecchia che poczi vivere mill’anni …………………………… Giovanthomaso Cimello ¡O\, dulce y triste memoria! ……………………………………. Millan La gamba in tenor ………..…..………………………………… Vincenzo Ruffo Una amiga tengo ………………………………………………. Juan del Encina Si n’os huviera mirado ………………………………………… [Cristóbal de] Morales Anchor che co’l partire ………………………………………… Ciprian de Rore   ¿Cómo puedo yo vivir? ..……..………………………………… anònim Para quien crié yo cabellos …………………………………….. Antonio de Cabezón Pues que jamás ………..………………………………………. Juan del Encina Besáme y abraçame ………….………………………………… anònim ¡A\, hermosa\, abrime! ………………………………………….. Juan Vásquez Quant je boy du vin claret …………………………………….. Guillaume Le Heurteur
URL:https://octubre.cat/activitat/concert-dharmonia-del-parnas/
LOCATION:No definit
CATEGORIES:Conferències i congressos
ATTACH;FMTTYPE=image/jpeg:https://octubre.cat/www/wp-content/uploads/2020/07/activitat408.jpg
END:VEVENT
END:VCALENDAR