BEGIN:VCALENDAR
VERSION:2.0
PRODID:-//Octubre Centre de Cultura Contemporània - ECPv5.1.6//NONSGML v1.0//EN
CALSCALE:GREGORIAN
METHOD:PUBLISH
X-WR-CALNAME:Octubre Centre de Cultura Contemporània
X-ORIGINAL-URL:https://octubre.cat
X-WR-CALDESC:Events for Octubre Centre de Cultura Contemporània
BEGIN:VTIMEZONE
TZID:Europe/Andorra
BEGIN:DAYLIGHT
TZOFFSETFROM:+0100
TZOFFSETTO:+0200
TZNAME:CEST
DTSTART:20160327T010000
END:DAYLIGHT
BEGIN:STANDARD
TZOFFSETFROM:+0200
TZOFFSETTO:+0100
TZNAME:CET
DTSTART:20161030T010000
END:STANDARD
END:VTIMEZONE
BEGIN:VEVENT
DTSTART;TZID=Europe/Andorra:20160628T200000
DTEND;TZID=Europe/Andorra:20160628T200000
DTSTAMP:20260421T151845
CREATED:20200729T171932Z
LAST-MODIFIED:20200729T185536Z
UID:10723-1467144000-1467144000@octubre.cat
SUMMARY:Concert del Cor de Ciutat Vella
DESCRIPTION:Dimarts 28 de juny a les 20.00h. Entrada: aportació voluntària.  \n  \n  \n\n El Cor de Ciutat Vella és un cor amateur que ha estat treballant un repertori que no és necessàriament coral però està situat dins un marc eclèctic de música moderna. Durant aquest\, el seu primer concert\, sonaran cançons de tot tipus: boleros\, rap\, swing\, pop\, copla\, rock…  Entrada: aportació voluntària
URL:https://octubre.cat/activitat/concert-del-cor-de-ciutat-vella/
LOCATION:Terrat
CATEGORIES:Música
ATTACH;FMTTYPE=image/jpeg:https://octubre.cat/www/wp-content/uploads/2020/07/activitat2613.jpg
END:VEVENT
END:VCALENDAR