BEGIN:VCALENDAR
VERSION:2.0
PRODID:-//Octubre Centre de Cultura Contemporània - ECPv5.1.6//NONSGML v1.0//EN
CALSCALE:GREGORIAN
METHOD:PUBLISH
X-WR-CALNAME:Octubre Centre de Cultura Contemporània
X-ORIGINAL-URL:https://octubre.cat
X-WR-CALDESC:Events for Octubre Centre de Cultura Contemporània
BEGIN:VTIMEZONE
TZID:Europe/Andorra
BEGIN:DAYLIGHT
TZOFFSETFROM:+0100
TZOFFSETTO:+0200
TZNAME:CEST
DTSTART:20080330T010000
END:DAYLIGHT
BEGIN:STANDARD
TZOFFSETFROM:+0200
TZOFFSETTO:+0100
TZNAME:CET
DTSTART:20081026T010000
END:STANDARD
END:VTIMEZONE
BEGIN:VEVENT
DTSTART;TZID=Europe/Andorra:20080120T190000
DTEND;TZID=Europe/Andorra:20080120T190000
DTSTAMP:20260420T232914
CREATED:20200729T181650Z
LAST-MODIFIED:20200730T035601Z
UID:12454-1200855600-1200855600@octubre.cat
SUMMARY:Concert de Voro Garcia Quartet
DESCRIPTION:Grup liderat per Voro Garcia (Sueca\, 1978). Trompetista\, compositor i arranjador que es va graduar magne cum laude el 2007 a l’Escola de Música de Berklee (a Boston). Allà sorgeix aquest projecte d’agrupar aquesta banda per tal de tocar peces d’un estil que va des de les arrels del swing fins al jazz més actual.
URL:https://octubre.cat/activitat/concert-de-voro-garcia-quartet/
LOCATION:No definit
CATEGORIES:Diumenges de Jazz!
ATTACH;FMTTYPE=image/jpeg:https://octubre.cat/www/wp-content/uploads/2020/07/musica1.jpg
END:VEVENT
END:VCALENDAR