BEGIN:VCALENDAR
VERSION:2.0
PRODID:-//Octubre Centre de Cultura Contemporània - ECPv5.1.6//NONSGML v1.0//EN
CALSCALE:GREGORIAN
METHOD:PUBLISH
X-WR-CALNAME:Octubre Centre de Cultura Contemporània
X-ORIGINAL-URL:https://octubre.cat
X-WR-CALDESC:Events for Octubre Centre de Cultura Contemporània
BEGIN:VTIMEZONE
TZID:Europe/Andorra
BEGIN:DAYLIGHT
TZOFFSETFROM:+0100
TZOFFSETTO:+0200
TZNAME:CEST
DTSTART:20090329T010000
END:DAYLIGHT
BEGIN:STANDARD
TZOFFSETFROM:+0200
TZOFFSETTO:+0100
TZNAME:CET
DTSTART:20091025T010000
END:STANDARD
END:VTIMEZONE
BEGIN:VEVENT
DTSTART;TZID=Europe/Andorra:20090527T193000
DTEND;TZID=Europe/Andorra:20090527T193000
DTSTAMP:20260420T192006
CREATED:20200729T182448Z
LAST-MODIFIED:20200729T182448Z
UID:12842-1243452600-1243452600@octubre.cat
SUMMARY:Concert de maig
DESCRIPTION:Dimecres 27 de maig\, a les 19.30h: Beethoven\, l’esperit del temps. Amb el quartet de corda “A piacere”.   \n  \n  \n\nPrograma  Quartet de Beethoven op. 95 en Fa menor  Allegro con brio Allegretto ma non troppo Allegro assai vivace ma serioso Larghetto expressivo-Allegretto agitato  E. B. Britten “Simple Symphony” en Re menor  Boisterous bourreé Playful pizzicato Sentimental saraband Frolicsome finale  Quartet de corda A piacere  Patrícia Genís\, violí Anna Requena\, violí Miquel Falomir\, viola Rosa Gil\, violoncel
URL:https://octubre.cat/activitat/concert-de-maig/
LOCATION:No definit
CATEGORIES:Cicle de Música de Cambra
ATTACH;FMTTYPE=image/jpeg:https://octubre.cat/www/wp-content/uploads/2020/07/activitat872.jpg
END:VEVENT
END:VCALENDAR