BEGIN:VCALENDAR
VERSION:2.0
PRODID:-//Octubre Centre de Cultura Contemporània - ECPv5.1.6//NONSGML v1.0//EN
CALSCALE:GREGORIAN
METHOD:PUBLISH
X-WR-CALNAME:Octubre Centre de Cultura Contemporània
X-ORIGINAL-URL:https://octubre.cat
X-WR-CALDESC:Events for Octubre Centre de Cultura Contemporània
BEGIN:VTIMEZONE
TZID:Europe/Andorra
BEGIN:DAYLIGHT
TZOFFSETFROM:+0100
TZOFFSETTO:+0200
TZNAME:CEST
DTSTART:20090329T010000
END:DAYLIGHT
BEGIN:STANDARD
TZOFFSETFROM:+0200
TZOFFSETTO:+0100
TZNAME:CET
DTSTART:20091025T010000
END:STANDARD
END:VTIMEZONE
BEGIN:VEVENT
DTSTART;TZID=Europe/Andorra:20090204T193000
DTEND;TZID=Europe/Andorra:20090204T193000
DTSTAMP:20260420T203916
CREATED:20200729T182318Z
LAST-MODIFIED:20200729T182318Z
UID:12759-1233775800-1233775800@octubre.cat
SUMMARY:Concert de febrer
DESCRIPTION:Dimecres 4 de febrer\, a les 19.30h: Quartet “A Piacere”  \n  \n  \n\nA càrrec del quartet “A Piacere”  Components: PATRICIA GENÍS\, violí ANA REQUENA\, violí MIQUEL FALOMIR\,viola ROSA GIL\,violoncel
URL:https://octubre.cat/activitat/concert-de-febrer/
LOCATION:No definit
CATEGORIES:Cicle de Música de Cambra
ATTACH;FMTTYPE=image/jpeg:https://octubre.cat/www/wp-content/uploads/2020/07/musica1.jpg
END:VEVENT
END:VCALENDAR