BEGIN:VCALENDAR
VERSION:2.0
PRODID:-//Octubre Centre de Cultura Contemporània - ECPv5.1.6//NONSGML v1.0//EN
CALSCALE:GREGORIAN
METHOD:PUBLISH
X-WR-CALNAME:Octubre Centre de Cultura Contemporània
X-ORIGINAL-URL:https://octubre.cat
X-WR-CALDESC:Events for Octubre Centre de Cultura Contemporània
BEGIN:VTIMEZONE
TZID:Europe/Andorra
BEGIN:DAYLIGHT
TZOFFSETFROM:+0100
TZOFFSETTO:+0200
TZNAME:CEST
DTSTART:20070325T010000
END:DAYLIGHT
BEGIN:STANDARD
TZOFFSETFROM:+0200
TZOFFSETTO:+0100
TZNAME:CET
DTSTART:20071028T010000
END:STANDARD
END:VTIMEZONE
BEGIN:VEVENT
DTSTART;TZID=Europe/Andorra:20070618T000000
DTEND;TZID=Europe/Andorra:20070618T000000
DTSTAMP:20260420T222351
CREATED:20260106T153147Z
LAST-MODIFIED:20260106T153147Z
UID:24555-1182124800-1182124800@octubre.cat
SUMMARY:Commemoració de la creació de l'Institut d'Estudis Catalans
DESCRIPTION:Conferència commemorativa de la data de la signatura de l’acord de creació de l’Institut d’Estudis Catalans \nProjecció a través d’internet de la conferència celebrada a Barcelona a càrrec d’Albert Balcells (catedràtic d’Història Contemporània de la Universitat de Barcelona).
URL:https://octubre.cat/activitat/commemoracio-de-la-creacio-de-linstitut-destudis-catalans/
LOCATION:No definit
CATEGORIES:Conferències i congressos
ATTACH;FMTTYPE=image/jpeg:https://octubre.cat/www/wp-content/uploads/2020/07/conferencia1.jpg
END:VEVENT
END:VCALENDAR