BEGIN:VCALENDAR
VERSION:2.0
PRODID:-//Octubre Centre de Cultura Contemporània - ECPv5.1.6//NONSGML v1.0//EN
CALSCALE:GREGORIAN
METHOD:PUBLISH
X-WR-CALNAME:Octubre Centre de Cultura Contemporània
X-ORIGINAL-URL:https://octubre.cat
X-WR-CALDESC:Events for Octubre Centre de Cultura Contemporània
BEGIN:VTIMEZONE
TZID:Europe/Andorra
BEGIN:DAYLIGHT
TZOFFSETFROM:+0100
TZOFFSETTO:+0200
TZNAME:CEST
DTSTART:20140330T010000
END:DAYLIGHT
BEGIN:STANDARD
TZOFFSETFROM:+0200
TZOFFSETTO:+0100
TZNAME:CET
DTSTART:20141026T010000
END:STANDARD
END:VTIMEZONE
BEGIN:VEVENT
DTSTART;TZID=Europe/Andorra:20140919T000000
DTEND;TZID=Europe/Andorra:20141031T000000
DTSTAMP:20260421T195015
CREATED:20200729T170552Z
LAST-MODIFIED:20200831T163025Z
UID:9844-1411084800-1414713600@octubre.cat
SUMMARY:Còmic i il·lustració
DESCRIPTION:L’esclat creatiu a la Floresta – Sant Cugat \nActe d’inauguració: Dimecres 24 de setembre a les 19.00h Amb Lluís Ribas (artista i comissari de l’exposició) i Álvaro Pons (crític de còmic). L’acte comptarà també amb la presència de Xavier Escura\, regidor de Cultura de Sant Cugat del Vallès.\nExposició organitzada per l’Octubre CCC amb la col·laboració de l’Ajuntament de Sant Cugat del Vallès \nAquesta exposició fa un homenatge al món del còmic de Sant Cugat del Vallès\, un valuós patrimoni artístic i cultural que es va gestar al districte de la Floresta durant la segona meitat del segle XX. A la Floresta van viure i van treballar dos dels grans referents del còmic i la il·lustració a nivell internacional: Josep Toutain i Josep Maria Berenguer. \nJosep Toutain\, primer com a artista i després com a empresari\, va portar un grup d’artistes i creadors d’arreu del país\, no només a conquerir els mercats nacionals\, sinó també els internacionals. A través de la seua agència Selecciones Ilustradas van triomfar al Regne Unit\, França\, Alemanya i\, sobretot\, als Estats Units\, país on el còmic és tot un referent viu de la cultura i la creació contemporània. \nJosep Maria Berenguer\, amb l’ajut del seu veí florestà Toutain\, va crear una de les publicacions més contraculturals i undergrounds de la transició democràtica\, El Víbora. Aquesta revista gràfica va ser tot un referent de l’art underground de finals dels setanta i principis dels vuitanta del segle passat\, on no sol hi eren presents artistes catalans sinó també artistes internacionals. \nL’exposició recull un gran nombre d’originals\, il·lustracions\, esbossos\, publicacions\, fotografies\, etc. d’autors com ara Lluís Ribas\, Pepe González\, Fernando Fernández\, Manfred Sommer\, Josep Maria Beà\, Bermejo\, Picanyol\, Carlos Giménez\, Esteban Maroto\, Richard Corben\, Bernet\, Horacio Altuna\, Alfons Font\, Xavier Mariscal\, Max\, Gallardo\, Nazario\, Shelton\, etc. \n(imatge superior: Josep Toutain i Josep Maria Berenguer)
URL:https://octubre.cat/activitat/comic-i-illustracio/
LOCATION:Sala d’exposicions
CATEGORIES:Exposicions
ATTACH;FMTTYPE=image/jpeg:https://octubre.cat/www/wp-content/uploads/2020/07/activitat2115.jpg
END:VEVENT
END:VCALENDAR