BEGIN:VCALENDAR
VERSION:2.0
PRODID:-//Octubre Centre de Cultura Contemporània - ECPv5.1.6//NONSGML v1.0//EN
CALSCALE:GREGORIAN
METHOD:PUBLISH
X-WR-CALNAME:Octubre Centre de Cultura Contemporània
X-ORIGINAL-URL:https://octubre.cat
X-WR-CALDESC:Events for Octubre Centre de Cultura Contemporània
BEGIN:VTIMEZONE
TZID:Europe/Andorra
BEGIN:DAYLIGHT
TZOFFSETFROM:+0100
TZOFFSETTO:+0200
TZNAME:CEST
DTSTART:20100328T010000
END:DAYLIGHT
BEGIN:STANDARD
TZOFFSETFROM:+0200
TZOFFSETTO:+0100
TZNAME:CET
DTSTART:20101031T010000
END:STANDARD
END:VTIMEZONE
BEGIN:VEVENT
DTSTART;TZID=Europe/Andorra:20100211T193000
DTEND;TZID=Europe/Andorra:20100211T193000
DTSTAMP:20260420T232751
CREATED:20200729T164748Z
LAST-MODIFIED:20200729T182821Z
UID:8749-1265916600-1265916600@octubre.cat
SUMMARY:Com eixir de la crisi (sense crear-ne una altra)
DESCRIPTION:Dijous 11 de febrer\, a les 19.30h: “Com eixir de la crisi (sense crear-ne una altra)”\, a càrrec de Ricardo Almenar.   \n  \n  \n\nConferència a càrrec de Ricardo Almenar\, biòleg i consultor en medi ambient i desenvolupament sostenible.    Presenten l’acte: Carles Arnal\, ex-diputat i portaveu d’Els Verds Esquerra Ecologista i Carles Porcel\, president de l’Ecofòrum.   Organitza: Ecofòrum del PV.   Entrada lliure.
URL:https://octubre.cat/activitat/com-eixir-de-la-crisi-sense-crear-ne-una-altra/
LOCATION:No definit
CATEGORIES:Conferències i congressos
ATTACH;FMTTYPE=image/jpeg:https://octubre.cat/www/wp-content/uploads/2020/07/activitat1094.jpg
END:VEVENT
END:VCALENDAR