BEGIN:VCALENDAR
VERSION:2.0
PRODID:-//Octubre Centre de Cultura Contemporània - ECPv5.1.6//NONSGML v1.0//EN
CALSCALE:GREGORIAN
METHOD:PUBLISH
X-WR-CALNAME:Octubre Centre de Cultura Contemporània
X-ORIGINAL-URL:https://octubre.cat
X-WR-CALDESC:Events for Octubre Centre de Cultura Contemporània
BEGIN:VTIMEZONE
TZID:Europe/Andorra
BEGIN:DAYLIGHT
TZOFFSETFROM:+0100
TZOFFSETTO:+0200
TZNAME:CEST
DTSTART:20250330T010000
END:DAYLIGHT
BEGIN:STANDARD
TZOFFSETFROM:+0200
TZOFFSETTO:+0100
TZNAME:CET
DTSTART:20251026T010000
END:STANDARD
END:VTIMEZONE
BEGIN:VEVENT
DTSTART;TZID=Europe/Andorra:20251015T190000
DTEND;TZID=Europe/Andorra:20251015T190000
DTSTAMP:20260420T132911
CREATED:20251006T090745Z
LAST-MODIFIED:20251006T090745Z
UID:23765-1760554800-1760554800@octubre.cat
SUMMARY:Col·loqui sobre la repressió franquista a Canàries i al País Valencià.
DESCRIPTION:Amb la presentació del llibre Los barrancos del silencio. Relatos de la represión franquista en Gran Canaria\, de Francisco González Tejera (El Mono Libre) \nAmb la participació de:\n—Francisco González Tejera (autor del llibre Los barrancos del silencio)\n—Miguel Mezquida Fernández (arqueòleg i membre fundador i director d’ArqueoAntro i director dels treballs d’exhumació dels afusellats a Paterna).\nModera Natàlia Mas Martínez. \nLa repressió va ser tortura ritualitzada\, un sadisme institucionalitzat\, una maquinària de patiment que va convertir Gran Canària en un dels escenaris més foscos de la barbàrie feixista a Espanya. Aquest llibre conté una selecció de relats escrits per Francisco González Tejera a partir de testimonis recollits al llarg de trenta anys. \n  \n \n—\nActe organitzat per ACPV
URL:https://octubre.cat/activitat/colloqui-sobre-la-repressio-franquista-a-canaries-i-al-pais-valencia/
LOCATION:Aula 1
CATEGORIES:Conferències i congressos
ATTACH;FMTTYPE=image/jpeg:https://octubre.cat/www/wp-content/uploads/2025/10/fosses-paterna.jpg
END:VEVENT
END:VCALENDAR