BEGIN:VCALENDAR
VERSION:2.0
PRODID:-//Octubre Centre de Cultura Contemporània - ECPv5.1.6//NONSGML v1.0//EN
CALSCALE:GREGORIAN
METHOD:PUBLISH
X-WR-CALNAME:Octubre Centre de Cultura Contemporània
X-ORIGINAL-URL:https://octubre.cat
X-WR-CALDESC:Events for Octubre Centre de Cultura Contemporània
BEGIN:VTIMEZONE
TZID:Europe/Andorra
BEGIN:DAYLIGHT
TZOFFSETFROM:+0100
TZOFFSETTO:+0200
TZNAME:CEST
DTSTART:20240331T010000
END:DAYLIGHT
BEGIN:STANDARD
TZOFFSETFROM:+0200
TZOFFSETTO:+0100
TZNAME:CET
DTSTART:20241027T010000
END:STANDARD
END:VTIMEZONE
BEGIN:VEVENT
DTSTART;TZID=Europe/Andorra:20240620T190000
DTEND;TZID=Europe/Andorra:20240620T190000
DTSTAMP:20260420T184529
CREATED:20240607T094406Z
LAST-MODIFIED:20250713T085321Z
UID:21422-1718910000-1718910000@octubre.cat
SUMMARY:Col·loqui «Segells valencians de música electrònica»
DESCRIPTION:Amb aquesta xerrada\, Génesis Electronic pretén posar en valor el treball dels segells valencians més potents que hi ha actualment enfocats a la pista de ball. Per això\, comptarem amb la presència d’alguns dels responsables de cada projecte:\n—Acmé: Àlex Font\n—Gordo Trax: Pablo Barberà: Finalversion3\n—HC Records: David Verdeguer\, Raszia\n—Low Syndicate: Dj Finger\n—Oven Sound: David PinUp\, Sueezo\n—Subsist: Alfonso Civantos\n—Sungate: Moy Santana\, Fran Domingo\n—theBasement\nModera\, Alberto Sola de Génesis Music. \n  \n \n—\nOrganitzat per Génesis Electronic amb la col·laboració de l’Octubre CCC
URL:https://octubre.cat/activitat/colloqui-segells-valencians-de-musica-electronica/
LOCATION:Sala d’actes
CATEGORIES:Conferències i congressos,Música
ATTACH;FMTTYPE=image/png:https://octubre.cat/www/wp-content/uploads/2024/06/cabina-dj.png
END:VEVENT
END:VCALENDAR