BEGIN:VCALENDAR
VERSION:2.0
PRODID:-//Octubre Centre de Cultura Contemporània - ECPv5.1.6//NONSGML v1.0//EN
CALSCALE:GREGORIAN
METHOD:PUBLISH
X-WR-CALNAME:Octubre Centre de Cultura Contemporània
X-ORIGINAL-URL:https://octubre.cat
X-WR-CALDESC:Events for Octubre Centre de Cultura Contemporània
BEGIN:VTIMEZONE
TZID:Europe/Andorra
BEGIN:DAYLIGHT
TZOFFSETFROM:+0100
TZOFFSETTO:+0200
TZNAME:CEST
DTSTART:20190331T010000
END:DAYLIGHT
BEGIN:STANDARD
TZOFFSETFROM:+0200
TZOFFSETTO:+0100
TZNAME:CET
DTSTART:20191027T010000
END:STANDARD
END:VTIMEZONE
BEGIN:VEVENT
DTSTART;TZID=Europe/Andorra:20190404T183000
DTEND;TZID=Europe/Andorra:20190404T183000
DTSTAMP:20260421T002353
CREATED:20200729T173333Z
LAST-MODIFIED:20200729T191110Z
UID:11400-1554402600-1554402600@octubre.cat
SUMMARY:Col·loqui “La desfeta de la República”
DESCRIPTION:Dijous 4 d’abril a les 18.30h amb Anna Oliver\, Carles Senso i Cristina Cristóbal. Entrada lliure.	 \n  \n  \n\n 	 La desfeta de la República: de la ignomínia de l’oblit a la memòria democràtica  Participen: —Anna Oliver\, advocada\, Acció Cultural del País Valencià —Carles Senso\, doctor en Història i coautor dels llibres La ignomínia de l’oblit i La derrota perpètua —Cristina Cristóbal\, psicòloga i familiar de persones represaliades  Organitzat per Acció Cultural del País Valencià\, Plataforma per la Memòria del País Valencià i Fundación Hugo Zárate.
URL:https://octubre.cat/activitat/colloqui-la-desfeta-de-la-republica/
CATEGORIES:Conferències i congressos
ATTACH;FMTTYPE=image/jpeg:https://octubre.cat/www/wp-content/uploads/2020/07/activitat3244.jpg
END:VEVENT
END:VCALENDAR