BEGIN:VCALENDAR
VERSION:2.0
PRODID:-//Octubre Centre de Cultura Contemporània - ECPv5.1.6//NONSGML v1.0//EN
CALSCALE:GREGORIAN
METHOD:PUBLISH
X-WR-CALNAME:Octubre Centre de Cultura Contemporània
X-ORIGINAL-URL:https://octubre.cat
X-WR-CALDESC:Events for Octubre Centre de Cultura Contemporània
BEGIN:VTIMEZONE
TZID:Europe/Andorra
BEGIN:DAYLIGHT
TZOFFSETFROM:+0100
TZOFFSETTO:+0200
TZNAME:CEST
DTSTART:20110327T010000
END:DAYLIGHT
BEGIN:STANDARD
TZOFFSETFROM:+0200
TZOFFSETTO:+0100
TZNAME:CET
DTSTART:20111030T010000
END:STANDARD
END:VTIMEZONE
BEGIN:VEVENT
DTSTART;TZID=Europe/Andorra:20111114T000000
DTEND;TZID=Europe/Andorra:20111118T000000
DTSTAMP:20260422T001550
CREATED:20200729T165616Z
LAST-MODIFIED:20200730T042857Z
UID:9280-1321228800-1321574400@octubre.cat
SUMMARY:Col·loqui Internacional 'Vers Nancy'
DESCRIPTION:Del 14 al 18 de novembre: setmana d’activitats relacionades amb la figura i l’obra del filòsof Jean-Luc Nancy. A diversos llocs de València\, incloent-hi l’Octubre CCC  \n  \n  \n\nJornades al voltant del pensament de Jean-Luc Nancy  Una setmana de trobades\, col·loquis i debats a València al voltant de l’obra\, el pensament i l’aportació del filòsof francès Jean-Luc Nancy amb motiu de l’exposició “Les figures mares” que el pintor també francès François Martin realitza a l’Octubre CCC basada en la figura de la Dama d’Elx. Des del dilluns 14 fins el divendres 18 de novembre de 2011\, el filòsof francès estarà a València per participar en diversos actes al voltant de l’estètica i el dibuix (juntament amb l’artista François Martin)\, del cinema i la representació (amb Claire Denis)\, etc.. Les conferències i els debats giraran al voltant dels treballs de Nancy sobre les “figures mares” i\, especialment\, sobre la Dama d’Elx\, tema sobre el qual va treballar entre 2009 i 2010 juntament amb François Martin.  Dijous 10 A l’Institut Français 20.00h. Inauguració de l’exposició “La Dama d’Elx”\, amb François Martin (artista) i Thierry Heynen (director de l’Escola Superior d’Art i Disseny de Le Havre – Rouen).  Dilluns 14 A la Facultat de Belles Arts (UPV) 18.00h. Debat “La couleur pense para elle-même”\, amb Jean-Luc Nancy\, François Martin i Miguel Corella Lacasa  Dimarts 15 A la Facultat de Filosofia (UV) 12.00h. Conferència “Phantastique phénomène”\, a càrrec de Jean-Luc Nancy i Manuel E. Vázquez  Dimecres 16 A l’Institut Français 19.00h. Debat “La part i l’aport del cinema en el pensament modern”\, amb Jean-Luc Nancy i Claire Denis  Dijous 17 A l’Octubre Centre de Cultura Contemporània 19.00h. Inauguració de l’exposició “Les figures mare” 20.00h. Debat amb Jena-Luc Nancy i François Martin (en francès\, amb traducció)  Divendres 18 A l’Institut Français 20.00h. Concert de Mi and L’Au  Jornades organitzades en col·laboració per l’Institut Français de València\, Octubre Centre de Cultura Contemporània de València\, Facultat de Belles Arts de la Universitat Politècnica de València\, Facultat de Filosofia de la Universitat de València\, Escola d’Art i Superior de Disseny de València i Conservatori Superior de Dansa de València
URL:https://octubre.cat/activitat/colloqui-internacional-vers-nancy/
LOCATION:No definit
CATEGORIES:Conferències i congressos
ATTACH;FMTTYPE=image/jpeg:https://octubre.cat/www/wp-content/uploads/2020/07/activitat1512.jpg
END:VEVENT
END:VCALENDAR