BEGIN:VCALENDAR
VERSION:2.0
PRODID:-//Octubre Centre de Cultura Contemporània - ECPv5.1.6//NONSGML v1.0//EN
CALSCALE:GREGORIAN
METHOD:PUBLISH
X-WR-CALNAME:Octubre Centre de Cultura Contemporània
X-ORIGINAL-URL:https://octubre.cat
X-WR-CALDESC:Events for Octubre Centre de Cultura Contemporània
BEGIN:VTIMEZONE
TZID:Europe/Andorra
BEGIN:DAYLIGHT
TZOFFSETFROM:+0100
TZOFFSETTO:+0200
TZNAME:CEST
DTSTART:20150329T010000
END:DAYLIGHT
BEGIN:STANDARD
TZOFFSETFROM:+0200
TZOFFSETTO:+0100
TZNAME:CET
DTSTART:20151025T010000
END:STANDARD
END:VTIMEZONE
BEGIN:VEVENT
DTSTART;TZID=Europe/Andorra:20151112T000000
DTEND;TZID=Europe/Andorra:20151128T000000
DTSTAMP:20260422T072428
CREATED:20200729T171406Z
LAST-MODIFIED:20200903T155906Z
UID:10374-1447286400-1448668800@octubre.cat
SUMMARY:Col·lectiva Ciutat Vella Oberta 2015
DESCRIPTION:Exposició col·lectiva Ciutat Vella Oberta 2015. \nInclou pintura\, escultura i instal·lacions. Obres de Miguel Ángel Aranda\, Luis Beltrán\, Ana Beltrán Porcar\, Xaro Bonilla\, Beatriz Carbonell\, Ana Chacón\, Kike Chumillas\, Juan Domingo Linares\, Enrique Estellés\, Ricardo Gil Romaguera\, David Gonher\, Miguel Hache\, Miguel Hernández Sáez\, Fernando Jiménez\, Néstor López\, Juanvi Luz Argilés\, Inma Martínez Martí\, Karine Pascual\, Marcos Pastor Hidalgo\, María José Pérez Vicente\, Marigela Pueyrredón\, Manuel Ramos\, Pep Sales\, Gianfranco Spada\, Gerardo Stübing\, Blanca Viñals Peyró.
URL:https://octubre.cat/activitat/collectiva-ciutat-vella-oberta-2015/
LOCATION:Sala d’exposicions
CATEGORIES:Exposicions
ATTACH;FMTTYPE=image/jpeg:https://octubre.cat/www/wp-content/uploads/2020/07/activitat2433.jpg
END:VEVENT
END:VCALENDAR