BEGIN:VCALENDAR
VERSION:2.0
PRODID:-//Octubre Centre de Cultura Contemporània - ECPv5.1.6//NONSGML v1.0//EN
CALSCALE:GREGORIAN
METHOD:PUBLISH
X-WR-CALNAME:Octubre Centre de Cultura Contemporània
X-ORIGINAL-URL:https://octubre.cat
X-WR-CALDESC:Events for Octubre Centre de Cultura Contemporània
BEGIN:VTIMEZONE
TZID:Europe/Andorra
BEGIN:DAYLIGHT
TZOFFSETFROM:+0100
TZOFFSETTO:+0200
TZNAME:CEST
DTSTART:20160327T010000
END:DAYLIGHT
BEGIN:STANDARD
TZOFFSETFROM:+0200
TZOFFSETTO:+0100
TZNAME:CET
DTSTART:20161030T010000
END:STANDARD
END:VTIMEZONE
BEGIN:VEVENT
DTSTART;TZID=Europe/Andorra:20161221T190000
DTEND;TZID=Europe/Andorra:20161221T190000
DTSTAMP:20260420T202248
CREATED:20200729T172249Z
LAST-MODIFIED:20200729T185704Z
UID:10931-1482346800-1482346800@octubre.cat
SUMMARY:'Cola\, Colita\, Colassa (Oda a Barcelona)'\, de Ventura Pons
DESCRIPTION:Dimecres 21 de desembre a les 19.00h. Projecció inclosa en el cicle de cinema Barcelona Escenari 2016 i presentada pel director. Entrada lliure.  \n  \n  \n\n Projecció presentada pel director.  En l’àmbit del retrat fotogràfic\, Colita és una mestra de la Barcelona del segle XX. S’ha lliurat tant al seu ofici com al plaer d’exercir-lo preferint retratar a gent que coneix i\, molt especialment\, a la que estima. Escriptors\, cantants\, artistes de cine\, però també rostres anònims. En el jardí de sa casa al barri de Sants de Barcelona\, conversant amb les amigues\, companyes de tota la vida\, carregades d’ingeni\, el concepte “amistat” de Colita inclou fins i tot a persones que va conèixer en els temps viscuts intensament: les dues darreres dècades de la dictadura franquista.  Direcció i guió: Ventura Pons (2015) Música: Pascal Comelade Fotografia: Maria Codina Repartiment: Pilar Aymerich\, Colita\, Beatriz de Moura\, Núria Feliu\, Teresa Gimpera\, Anna Maio\, Rosa Regàs\, Rosa Maria Sardà\, Rosa Sender\, Marta Tatjer\, Maruja Torres  Producció: Els Films de la Rambla / Televisió de Catalunya Durada: 70’  — Cicle organitzat per l’Octubre Centre de Cultura Contemporània amb el patrocini de l’Institut de Cultura de Barcelona Direcció del cicle: Antonio Lloréns Entrada lliure
URL:https://octubre.cat/activitat/cola-colita-colassa-oda-a-barcelona-de-ventura-pons/
LOCATION:Sala d’actes
CATEGORIES:Barcelona Escenari 2016 (cinema)
ATTACH;FMTTYPE=image/jpeg:https://octubre.cat/www/wp-content/uploads/2020/07/activitat2727.jpg
END:VEVENT
END:VCALENDAR