BEGIN:VCALENDAR
VERSION:2.0
PRODID:-//Octubre Centre de Cultura Contemporània - ECPv5.1.6//NONSGML v1.0//EN
CALSCALE:GREGORIAN
METHOD:PUBLISH
X-WR-CALNAME:Octubre Centre de Cultura Contemporània
X-ORIGINAL-URL:https://octubre.cat
X-WR-CALDESC:Events for Octubre Centre de Cultura Contemporània
BEGIN:VTIMEZONE
TZID:Europe/Andorra
BEGIN:DAYLIGHT
TZOFFSETFROM:+0100
TZOFFSETTO:+0200
TZNAME:CEST
DTSTART:20190331T010000
END:DAYLIGHT
BEGIN:STANDARD
TZOFFSETFROM:+0200
TZOFFSETTO:+0100
TZNAME:CET
DTSTART:20191027T010000
END:STANDARD
END:VTIMEZONE
BEGIN:VEVENT
DTSTART;TZID=Europe/Andorra:20190523T000000
DTEND;TZID=Europe/Andorra:20190530T000000
DTSTAMP:20260421T072028
CREATED:20200729T173344Z
LAST-MODIFIED:20200729T191119Z
UID:11412-1558569600-1559174400@octubre.cat
SUMMARY:CoEducArt
DESCRIPTION:Segona Mostra d’Activitats Coeducatives. Del 23 al 30 de maig. Organitzada per STEPV-Intersindical Valenciana amb la col·laboració d’ACPV.	 \n  \n  \n\n 	 Segona Mostra d’Activitats Coeducatives  Inauguració: divendres 24 de maig a les 13.00h\, amb els alumnes del Conservatori Superior de Dansa i de l’Escola Superior d’Art Dramàtic de València\, dirigits per Inmaculada Guerrero\, Rafael Ricart i Jesús Pérez.  CoEducArt és una mostra de projectes i treballs que es realitzen als centres educatius sobre les dones\, la igualtat i el feminisme. És\, doncs\, una manera de visibilitzar les dones tant a les aules com de cara a la societat en general. Els treballs de l’alumnat es fan majoritàriament amb motiu de dates assenyalades\, com el 25N i el 8M\, i amb CoEducArt aconseguim que la ciutadania siga conscient de la gran tasca que es fa des de l’escola. Enguany tindrem la segona mostra a València i Castelló\, mentre que ja és la tercera a Alacant\, totes amb molt d’èxit pel que fa al públic que les ha vistes\, però sobre tot pel que fa a la divulgació de continguts pedagògics que fomenten una societat més justa i igualitària.  — Organitzada per STEPV – Intersindical Valenciana amb la col·laboració d’Acció Cultural del País Valencià
URL:https://octubre.cat/activitat/coeducart/
LOCATION:Hall
CATEGORIES:Exposicions
ATTACH;FMTTYPE=image/jpeg:https://octubre.cat/www/wp-content/uploads/2020/07/activitat3257.jpg
END:VEVENT
END:VCALENDAR