BEGIN:VCALENDAR
VERSION:2.0
PRODID:-//Octubre Centre de Cultura Contemporània - ECPv5.1.6//NONSGML v1.0//EN
CALSCALE:GREGORIAN
METHOD:PUBLISH
X-WR-CALNAME:Octubre Centre de Cultura Contemporània
X-ORIGINAL-URL:https://octubre.cat
X-WR-CALDESC:Events for Octubre Centre de Cultura Contemporània
BEGIN:VTIMEZONE
TZID:Europe/Andorra
BEGIN:DAYLIGHT
TZOFFSETFROM:+0100
TZOFFSETTO:+0200
TZNAME:CEST
DTSTART:20250330T010000
END:DAYLIGHT
BEGIN:STANDARD
TZOFFSETFROM:+0200
TZOFFSETTO:+0100
TZNAME:CET
DTSTART:20251026T010000
END:STANDARD
END:VTIMEZONE
BEGIN:VEVENT
DTSTART;TZID=Europe/Andorra:20250329T120000
DTEND;TZID=Europe/Andorra:20250329T120000
DTSTAMP:20260421T034147
CREATED:20250224T092520Z
LAST-MODIFIED:20250324T170838Z
UID:22406-1743249600-1743249600@octubre.cat
SUMMARY:Cloenda de l’exposició d’Avelino Saavedra
DESCRIPTION:Presentació de catàleg\, acció sonora i cloenda de l’exposició “Avelino Saavedra\, obra plàstica multiestilística en la fragmentació”. \nParticipants:\nAvelino Saavedra (artista de l’exposició)\nJosep Lluís Galiana (editor i coordinador del catàleg)\nJoan Gómez Alemany (comissari de l’exposició i coordinador del catàleg) \nAmb motiu de l’últim dia de l’exposició\, es farà un acte on Josep Lluís Galiana i Joan Gómez Alemany presentaran el llibre que van coordinar\, Avelino Saavedra. Obra plástica y más\, editat per EdictOràlia Llibres i Publicacions. Els dos coordinadors parlaran de la primera publicació feta sobre el treball de Saavedra\, on han participat nombrosos especialistes que tracten principalment de la pintura\, l’obra gràfica\, la música i la performance. \nA més a més\, Avelino Saavedra realitzarà una performance al voltant d’aquesta publicació i exposició\, acompanyat per Josep Lluís Galiana (saxo) i Bartomeu Ferrando (poeta i performer).
URL:https://octubre.cat/activitat/cloenda-de-lexposicio-davelino-saavedra/
LOCATION:Sala d’actes
CATEGORIES:Conferències i congressos,Exposicions
ATTACH;FMTTYPE=image/jpeg:https://octubre.cat/www/wp-content/uploads/2025/02/EO044A_AVELINO-SAAVEDRA-2.jpg
END:VEVENT
END:VCALENDAR