BEGIN:VCALENDAR
VERSION:2.0
PRODID:-//Octubre Centre de Cultura Contemporània - ECPv5.1.6//NONSGML v1.0//EN
CALSCALE:GREGORIAN
METHOD:PUBLISH
X-WR-CALNAME:Octubre Centre de Cultura Contemporània
X-ORIGINAL-URL:https://octubre.cat
X-WR-CALDESC:Events for Octubre Centre de Cultura Contemporània
BEGIN:VTIMEZONE
TZID:Europe/Andorra
BEGIN:DAYLIGHT
TZOFFSETFROM:+0100
TZOFFSETTO:+0200
TZNAME:CEST
DTSTART:20190331T010000
END:DAYLIGHT
BEGIN:STANDARD
TZOFFSETFROM:+0200
TZOFFSETTO:+0100
TZNAME:CET
DTSTART:20191027T010000
END:STANDARD
END:VTIMEZONE
BEGIN:VEVENT
DTSTART;TZID=Europe/Andorra:20190509T000000
DTEND;TZID=Europe/Andorra:20190522T000000
DTSTAMP:20260425T145700
CREATED:20200729T173400Z
LAST-MODIFIED:20200905T150316Z
UID:11429-1557360000-1558483200@octubre.cat
SUMMARY:Claus 2019
DESCRIPTION:Mostra del treball dels alumnes de joieria\, amb tretze escoles participants\, coordinada per l’Escola d’Art i Superior de Disseny de València. \nInauguració: dijous 9 de maig a les 19.30h \nDes de 2012\, la col·laboració de l’Octubre CCC amb l’Escola d’Art i Superior de Disseny de València (EASD) ens ha permès exhibir anualment al nostre centre les creacions d’alguns dels joves artistes joiers més interessants dels darrers temps. Enguany el nombre de participants augmenta i arribem fins a tretze escoles de joieria:\n-EASD València\n-Easo Politeknikoa\, de Donostia\n-La Industrial. Escola d’Art\, de Barcelona\n-Escuela de Arte de Granada\n-Escuela de Arte Manolo Blahnik\, Isla de la Palma\n-Escola d’Art de Menorca\n-Escuela de Arte Nº1\, de Puerto San Miguel (Cantàbria)\n-Escuela de Arte 3\, de Madrid\n-Escola d’Art i Superior de Disseny de les Illes Balears\n-Escuela de Arte Mariano Timón\, de Palència\n-Llotja Escola Superior de Disseny i Art\, de Barcelona\n-Escola Massana\, de Barcelona\n-Escuela de Arte Dionisio Ortiz\, de Còrdova \nEs tracta\, com en anteriors edicions\, d’una mostra de l’estat de la joieria artística a través dels treballs de la promoció de l’alumnat d’enguany d’aquestes escoles.
URL:https://octubre.cat/activitat/claus-2019/
LOCATION:Hall
CATEGORIES:Exposicions
ATTACH;FMTTYPE=image/jpeg:https://octubre.cat/www/wp-content/uploads/2020/07/activitat3274.jpg
END:VEVENT
END:VCALENDAR