BEGIN:VCALENDAR
VERSION:2.0
PRODID:-//Octubre Centre de Cultura Contemporània - ECPv5.1.6//NONSGML v1.0//EN
CALSCALE:GREGORIAN
METHOD:PUBLISH
X-WR-CALNAME:Octubre Centre de Cultura Contemporània
X-ORIGINAL-URL:https://octubre.cat
X-WR-CALDESC:Events for Octubre Centre de Cultura Contemporània
BEGIN:VTIMEZONE
TZID:Europe/Andorra
BEGIN:DAYLIGHT
TZOFFSETFROM:+0100
TZOFFSETTO:+0200
TZNAME:CEST
DTSTART:20130331T010000
END:DAYLIGHT
BEGIN:STANDARD
TZOFFSETFROM:+0200
TZOFFSETTO:+0100
TZNAME:CET
DTSTART:20131027T010000
END:STANDARD
END:VTIMEZONE
BEGIN:VEVENT
DTSTART;TZID=Europe/Andorra:20131115T190000
DTEND;TZID=Europe/Andorra:20131115T190000
DTSTAMP:20260421T002349
CREATED:20200729T170223Z
LAST-MODIFIED:20200729T184241Z
UID:9635-1384542000-1384542000@octubre.cat
SUMMARY:Ciutats socials\, ciutats més justes
DESCRIPTION:Divendres 15 de novembre a les 19.00h. Polítiques municipals d’inclusió social\, organitzat per Esquerra Unida València  \n  \n  \n\n Jornades Municipals Polítiques municipals d’inclusió social  Amb la participació de:  —Maria Jesús Felipe\, tècnica en Serveis Socials —Helena Ferrando\, representant de la Xarxa per la Inclusió Social EAPN-CV —Ferran Senent\, treballador social de l’Ajuntament de València\, professor associat de la Universitat de València –Modera: Rosa Albert\, regidora d’Esquerra Unida a l’Ajuntament de València  Organitzat per Esquerra Univa València
URL:https://octubre.cat/activitat/ciutats-socials-ciutats-mes-justes/
CATEGORIES:Conferències i congressos
ATTACH;FMTTYPE=image/jpeg:https://octubre.cat/www/wp-content/uploads/2020/07/activitat1923.jpg
END:VEVENT
END:VCALENDAR