BEGIN:VCALENDAR
VERSION:2.0
PRODID:-//Octubre Centre de Cultura Contemporània - ECPv5.1.6//NONSGML v1.0//EN
CALSCALE:GREGORIAN
METHOD:PUBLISH
X-WR-CALNAME:Octubre Centre de Cultura Contemporània
X-ORIGINAL-URL:https://octubre.cat
X-WR-CALDESC:Events for Octubre Centre de Cultura Contemporània
BEGIN:VTIMEZONE
TZID:Europe/Andorra
BEGIN:DAYLIGHT
TZOFFSETFROM:+0100
TZOFFSETTO:+0200
TZNAME:CEST
DTSTART:20100328T010000
END:DAYLIGHT
BEGIN:STANDARD
TZOFFSETFROM:+0200
TZOFFSETTO:+0100
TZNAME:CET
DTSTART:20101031T010000
END:STANDARD
END:VTIMEZONE
BEGIN:VEVENT
DTSTART;TZID=Europe/Andorra:20100512T193000
DTEND;TZID=Europe/Andorra:20100512T193000
DTSTAMP:20260420T125005
CREATED:20200729T164833Z
LAST-MODIFIED:20200729T182903Z
UID:8794-1273692600-1273692600@octubre.cat
SUMMARY:CIUTAT_010: SANT ADRIÀ DEL BESÒS (BARCELONA)
DESCRIPTION:Dimecres 12 de maig\, a les 19.30h: Cicle CIUTAT_010. “SANT ADRIÀ DEL BESÒS (BARCELONA). Barri de La Mina”\, conferència a càrrec de Carles Llop\, arquitecte i co-director del Pla de Transformació del Barri de La Mina.   \n  \n  \n\nCIUTAT_010 Barris en present; espais en transformació 21 i 28 d’abril\, 5\, 12\, 19 de maig 2010  Ciutat_010 vol ser un espai de reflexió i debat entorn dels problemes que afecten l’espai públic\, com aquells factors que en condicionen la seua evolució. La present edició centra la seua atenció en els barris com a espais d’intercanvi\, eminentment humans\, on el potencial ciutadà és determinant per entendre certes configuracions. Sovint espais de la invisibilitat i d’urbanitat alhora\, els barris configuren\, també\, fluxos de renovació urbana\, focus d’identitat i la raó de ser del nou plantejament multicèntric de la ciutat.  Coordinadors acadèmics: Fernando Gaja\, dr. arquitecte\, professor titular d’Universitat (UPV). Joan Olmos\, dr. enginyer de Camins\, professor titular d’Universitat (UPV) Josepa Cucó\, catedràtica d’Antropologia Social de la Universitat de València.  Dimecres 12 de maig\, a les 19.30h.   SANT ADRIÀ DEL BESÒS (BARCELONA). Barri de La Mina Conferència a càrrec de Carles Llop\, arquitecte i co-director del Pla de Transformació del Barri de La Mina.
URL:https://octubre.cat/activitat/ciutat_010-sant-adria-del-besos-barcelona/
LOCATION:No definit
CATEGORIES:Institut del Territori
ATTACH;FMTTYPE=image/jpeg:https://octubre.cat/www/wp-content/uploads/2020/07/activitat1142.jpg
END:VEVENT
END:VCALENDAR