BEGIN:VCALENDAR
VERSION:2.0
PRODID:-//Octubre Centre de Cultura Contemporània - ECPv5.1.6//NONSGML v1.0//EN
CALSCALE:GREGORIAN
METHOD:PUBLISH
X-WR-CALNAME:Octubre Centre de Cultura Contemporània
X-ORIGINAL-URL:https://octubre.cat
X-WR-CALDESC:Events for Octubre Centre de Cultura Contemporània
BEGIN:VTIMEZONE
TZID:Europe/Andorra
BEGIN:DAYLIGHT
TZOFFSETFROM:+0100
TZOFFSETTO:+0200
TZNAME:CEST
DTSTART:20100328T010000
END:DAYLIGHT
BEGIN:STANDARD
TZOFFSETFROM:+0200
TZOFFSETTO:+0100
TZNAME:CET
DTSTART:20101031T010000
END:STANDARD
END:VTIMEZONE
BEGIN:VEVENT
DTSTART;TZID=Europe/Andorra:20100428T193000
DTEND;TZID=Europe/Andorra:20100428T193000
DTSTAMP:20260420T215321
CREATED:20200729T164831Z
LAST-MODIFIED:20200729T182900Z
UID:8792-1272483000-1272483000@octubre.cat
SUMMARY:CIUTAT_010: BARCELONA
DESCRIPTION:Dimecres 28 d’abril\, a les 19.30h: Cicle CIUTAT_010. “Barcelona. Districte de Ciutat Vella. Barri del Raval”\, conferència a càrrec d’Oriol Bohigas (arquitecte) i Joan Josep Pujadas (Universitat Rovira i Virgili).   \n  \n  \n\nCIUTAT_010 Barris en present; espais en transformació 21 i 28 d’abril\, 5\, 12\, 19 de maig 2010  Ciutat_010 vol ser un espai de reflexió i debat entorn dels problemes que afecten l’espai públic\, com aquells factors que en condicionen la seua evolució. La present edició centra la seua atenció en els barris com a espais d’intercanvi\, eminentment humans\, on el potencial ciutadà és determinant per entendre certes configuracions. Sovint espais de la invisibilitat i d’urbanitat alhora\, els barris configuren\, també\, fluxos de renovació urbana\, focus d’identitat i la raó de ser del nou plantejament multicèntric de la ciutat.  Coordinadors acadèmics: Fernando Gaja\, dr. arquitecte\, professor titular d’Universitat (UPV). Joan Olmos\, dr. enginyer de Camins\, professor titular d’Universitat (UPV) Josepa Cucó\, catedràtica d’Antropologia Social de la Universitat de València.  Dimecres 28 d’abril\, a les 19.30h.   BARCELONA. Districte de Ciutat Vella. Barri del Raval Conferència a càrrec d’Oriol Bohigas\, arquitecte i veí del districte del Raval\, i Joan Josep Pujadas\, catedràtic d’Antropologia Urbana de la Universitat Rovira i Virgili.
URL:https://octubre.cat/activitat/ciutat_010-barcelona/
LOCATION:No definit
CATEGORIES:Institut del Territori
ATTACH;FMTTYPE=image/jpeg:https://octubre.cat/www/wp-content/uploads/2020/07/activitat1140.jpg
END:VEVENT
END:VCALENDAR