BEGIN:VCALENDAR
VERSION:2.0
PRODID:-//Octubre Centre de Cultura Contemporània - ECPv5.1.6//NONSGML v1.0//EN
CALSCALE:GREGORIAN
METHOD:PUBLISH
X-WR-CALNAME:Octubre Centre de Cultura Contemporània
X-ORIGINAL-URL:https://octubre.cat
X-WR-CALDESC:Events for Octubre Centre de Cultura Contemporània
BEGIN:VTIMEZONE
TZID:Europe/Andorra
BEGIN:DAYLIGHT
TZOFFSETFROM:+0100
TZOFFSETTO:+0200
TZNAME:CEST
DTSTART:20130331T010000
END:DAYLIGHT
BEGIN:STANDARD
TZOFFSETFROM:+0200
TZOFFSETTO:+0100
TZNAME:CET
DTSTART:20131027T010000
END:STANDARD
END:VTIMEZONE
BEGIN:VEVENT
DTSTART;TZID=Europe/Andorra:20131108T000000
DTEND;TZID=Europe/Andorra:20131109T000000
DTSTAMP:20260421T072218
CREATED:20200729T170211Z
LAST-MODIFIED:20200729T184230Z
UID:9622-1383868800-1383955200@octubre.cat
SUMMARY:Ciutat Vella Oberta
DESCRIPTION:Divendres 8 i dissabte 9 de novembre. Festival multidisciplinar en el districte de Ciutat Vella de València  \n  \n  \n\n Festival Valencià de les Arts Del 8 al 10 de novembre A diversos espais de la ciutat  Ciutat Vella Oberta és un col·lectiu format per artistes\, galeristes i teòrics de l’art units per la idea d’organitzar un festival multidisciplinari en el districte de Ciutat Vella de València en contacte amb distintes associacions\, institucions i comerços de la zona.  Els objectius de Ciutat Vella Oberta són: –Recolzar al sector professional de l’art i la cultura. –Revitalitzar el panorama artístic de Ciutat Vella. –Acostar la manifestació artística a la ciutadania. –Visibilizar l’art emergent i refermar als consagrats. –Crear una xarxa participativa entre els diferents agents: creadors\, gestors\, comerciants\, associacions i veïns. –Implicar activament al visitant fent-li partícip i co-creador. –Afavorir l’accés a la cultura en la seua faceta més evolucionada\, menys polititzada\, més humana i socialitzadora. –Fomentar el turisme i ajudar al comerç i l’hostaleria del centre històric. –Tornar i dinamitzar el valor i caràcter cultural d’una zona amb una forta tradició artística des de segles.  Les activitats que es realitzaran a l’Octubre CCC són  Divendres 8 de novembre a les 19.00h: –Conferència de la Fundació InspirArte sobre la residència per a artistes d’Ifitry-Essaouira (Marroc)  Dissabte 9 de novembre –12.30h: espectacle familiar Sona Baixet: Dwomo –17.30h: espectacle familiar Sona Baixet: Dr. Sapo –19.30h: Conferència de Justo Serna: “Diari d’un burgés: la cultura\, l’art i el progrés segons José Inocencio de Llano White”
URL:https://octubre.cat/activitat/ciutat-vella-oberta/
LOCATION:No definit
CATEGORIES:Conferències i congressos
ATTACH;FMTTYPE=image/jpeg:https://octubre.cat/www/wp-content/uploads/2020/07/activitat1909.jpg
END:VEVENT
END:VCALENDAR