BEGIN:VCALENDAR
VERSION:2.0
PRODID:-//Octubre Centre de Cultura Contemporània - ECPv5.1.6//NONSGML v1.0//EN
CALSCALE:GREGORIAN
METHOD:PUBLISH
X-WR-CALNAME:Octubre Centre de Cultura Contemporània
X-ORIGINAL-URL:https://octubre.cat
X-WR-CALDESC:Events for Octubre Centre de Cultura Contemporània
BEGIN:VTIMEZONE
TZID:Europe/Andorra
BEGIN:DAYLIGHT
TZOFFSETFROM:+0100
TZOFFSETTO:+0200
TZNAME:CEST
DTSTART:20160327T010000
END:DAYLIGHT
BEGIN:STANDARD
TZOFFSETFROM:+0200
TZOFFSETTO:+0100
TZNAME:CET
DTSTART:20161030T010000
END:STANDARD
END:VTIMEZONE
BEGIN:VEVENT
DTSTART;TZID=Europe/Andorra:20160525T190000
DTEND;TZID=Europe/Andorra:20160525T190000
DTSTAMP:20260421T151827
CREATED:20200729T171837Z
LAST-MODIFIED:20200729T185511Z
UID:10663-1464202800-1464202800@octubre.cat
SUMMARY:Ciutat creativa i elefants blancs culturals
DESCRIPTION:Dimecres 25 de maig a les 19.00h. Ciutat creativa i elefants blancs culturals: repensar la política cultural al servei dels ciutadans/es. Presentació del monogràfic de la revista Arxius\, número 33\, amb Joaquim Rius-Ulldemolins\, Gil-Manuel Hernández\, Vicent Flor i David Estal.  \n  \n  \n\n Ciutat creativa i elefants blancs culturals: repensar la política cultural al servei dels ciutadans/es. Presentació del monogràfic de la revista Arxius\, número 33.  Amb la participació de  —Joaquim Rius-Ulldemolins (professor del Departament de Sociologia i Antropologia Social\, Universitat de València) —Gil-Manuel Hernàndez i Martí (professor del Departament de Sociologia i Antropologia Social\, Universitat de València) —Vicent Flor i Moreno (Director de la Institució Alfons El Magnànim) —David Estal (Arquitecte)  El monogràfic estudia i debat la gènesi i el desenvolupament dels anomenats “elefants blancs en política cultural”. L’expressió “elefant blanc”\, comuna en valencià\, espanyol o anglès\, fa referència a les infraestructures o construccions que tenen un cost de manutenció més gran que els beneficis que aporten\, o aquelles que proporcionen benefici a uns altres\, però que únicament ocasionen problemes al seu propietari\, especialment si aquest és l’administració pública. Així\, en política cultural\, definim com a elefants blancs aquells projectes culturals\, especialment grans infraestructures\, però també grans esdeveniments o clústers culturals\, que han centrat l’acció pública de la cultura en una llarga etapa des de mitjans dels noranta fins a finals dels anys dos mil — coincidint amb l’expansió econòmica— i que actualment s’han convertit en un problema i són el símbol cultural d’una època. Podem trobar exemples d’elefants blancs al País Valencià i en el conjunt de l’Estat espanyol. En el monogràfic s’estudien diversos casos com\, entre d’altres\, del del MUVIM\, el Palau de les Arts i s’estudien el paradigma de ciutat i d’instrumentalització de la cultura que s’han desenvolupat sota el paradigma de la ciutat creativa. Finalment\, es planteja la necessitat de deconstruir aquest model per a buscar nous models de política cultural ancorats a la cultura local realment existent i que respongui als drets culturals de la ciutadania.
URL:https://octubre.cat/activitat/ciutat-creativa-i-elefants-blancs-culturals/
CATEGORIES:Conferències i congressos
ATTACH;FMTTYPE=image/jpeg:https://octubre.cat/www/wp-content/uploads/2020/07/activitat2581.jpg
END:VEVENT
END:VCALENDAR