BEGIN:VCALENDAR
VERSION:2.0
PRODID:-//Octubre Centre de Cultura Contemporània - ECPv5.1.6//NONSGML v1.0//EN
CALSCALE:GREGORIAN
METHOD:PUBLISH
X-WR-CALNAME:Octubre Centre de Cultura Contemporània
X-ORIGINAL-URL:https://octubre.cat
X-WR-CALDESC:Events for Octubre Centre de Cultura Contemporània
BEGIN:VTIMEZONE
TZID:Europe/Andorra
BEGIN:DAYLIGHT
TZOFFSETFROM:+0100
TZOFFSETTO:+0200
TZNAME:CEST
DTSTART:20190331T010000
END:DAYLIGHT
BEGIN:STANDARD
TZOFFSETFROM:+0200
TZOFFSETTO:+0100
TZNAME:CET
DTSTART:20191027T010000
END:STANDARD
END:VTIMEZONE
BEGIN:VEVENT
DTSTART;TZID=Europe/Andorra:20191004T183000
DTEND;TZID=Europe/Andorra:20191004T183000
DTSTAMP:20260423T034923
CREATED:20200729T173502Z
LAST-MODIFIED:20200729T191222Z
UID:11496-1570213800-1570213800@octubre.cat
SUMMARY:Circ Social
DESCRIPTION:Divendres 4 d’octubre a les 18.30h. Projecció de documental\, debat i actuació posterior de Hamza El Alouani. Mostra Viva del Mediterrani 2019.	 \n  \n  \n\n 	 Projecció de documental i debat sobre Circ Social. Actuació de Hamza El Alouani / Cie  Cerclhom\, del Marroc\, en col·laboració amb l’Escola Nacional de Circ Shems’y.  — Debats Vius del Mediterrani Activitat inclosa dins la Mostra Viva del Mediterrani 2019
URL:https://octubre.cat/activitat/circ-social/
LOCATION:Sala d’actes
CATEGORIES:Cinema
ATTACH;FMTTYPE=image/jpeg:https://octubre.cat/www/wp-content/uploads/2020/07/activitat3335.jpg
END:VEVENT
END:VCALENDAR