BEGIN:VCALENDAR
VERSION:2.0
PRODID:-//Octubre Centre de Cultura Contemporània - ECPv5.1.6//NONSGML v1.0//EN
CALSCALE:GREGORIAN
METHOD:PUBLISH
X-WR-CALNAME:Octubre Centre de Cultura Contemporània
X-ORIGINAL-URL:https://octubre.cat
X-WR-CALDESC:Events for Octubre Centre de Cultura Contemporània
BEGIN:VTIMEZONE
TZID:Europe/Andorra
BEGIN:DAYLIGHT
TZOFFSETFROM:+0100
TZOFFSETTO:+0200
TZNAME:CEST
DTSTART:20230326T010000
END:DAYLIGHT
BEGIN:STANDARD
TZOFFSETFROM:+0200
TZOFFSETTO:+0100
TZNAME:CET
DTSTART:20231029T010000
END:STANDARD
END:VTIMEZONE
BEGIN:VEVENT
DTSTART;TZID=Europe/Andorra:20230607T180000
DTEND;TZID=Europe/Andorra:20230607T180000
DTSTAMP:20260421T134526
CREATED:20230223T163946Z
LAST-MODIFIED:20250710T084347Z
UID:19577-1686160800-1686160800@octubre.cat
SUMMARY:Cinema: Zimbàbue\, de  Camilla Nielsson
DESCRIPTION:Després de 37 anys del règim de Robert Mugabe\, Zimbabwe es troba en un moment crucial. Nelson Chamisa es converteix en el nou líder de l’oposició i el seu carisma impulsa la campanya electoral més poderosa de la història. El país sencer es mobilitza pel canvi\, però la vella guàrdia liderada per Emmerson “El Cocodril” Mnangagwa està disposada a tot per mantenir el poder. Una crònica inspiradora i impactant sobre la lluita per la democràcia en un sistema corrupte controlat pels militars. Un thriller polític d’una intensitat mai vista\, un xoc trepidant entre democràcia i dictadura. \n  \n \n  \nDirecció: Camilla Nielsson\nProducció Executiva: Danny Glover\, Susan Rockefeller\nProducció: Signe Byrge Sørensen\, Joslyn Barnes\nCoproducció: Anita Rehoff Larsen\, Anne Köhncke\nMúsica: Jonas Colstrup\nFotografia: Henrik Bohn Ipsen\nDinamarca\, Noruega i Estats Units (2021)\nVO en anglès i shona subtitulada en català\nDurada: 115’ \n  \n \nCicle “Acció Documental +” organitzat per ACICOM i ACPV. DocsBarcelona / El documental del mes.
URL:https://octubre.cat/activitat/cinema-zimbabue-de-camilla-nielsson/
LOCATION:Sala d’actes
CATEGORIES:Acció Documental +
ATTACH;FMTTYPE=image/jpeg:https://octubre.cat/www/wp-content/uploads/2023/02/A_PRESIDENT_still1_Chamisa_rally_photo_by_Henrik_Ipsen_copyright_FinalCutforReal_low.jpg
END:VEVENT
END:VCALENDAR