BEGIN:VCALENDAR
VERSION:2.0
PRODID:-//Octubre Centre de Cultura Contemporània - ECPv5.1.6//NONSGML v1.0//EN
CALSCALE:GREGORIAN
METHOD:PUBLISH
X-WR-CALNAME:Octubre Centre de Cultura Contemporània
X-ORIGINAL-URL:https://octubre.cat
X-WR-CALDESC:Events for Octubre Centre de Cultura Contemporània
BEGIN:VTIMEZONE
TZID:Europe/Andorra
BEGIN:DAYLIGHT
TZOFFSETFROM:+0100
TZOFFSETTO:+0200
TZNAME:CEST
DTSTART:20210328T010000
END:DAYLIGHT
BEGIN:STANDARD
TZOFFSETFROM:+0200
TZOFFSETTO:+0100
TZNAME:CET
DTSTART:20211031T010000
END:STANDARD
END:VTIMEZONE
BEGIN:VEVENT
DTSTART;TZID=Europe/Andorra:20211202T190000
DTEND;TZID=Europe/Andorra:20211202T190000
DTSTAMP:20260422T164603
CREATED:20211110T081411Z
LAST-MODIFIED:20211110T081411Z
UID:17292-1638471600-1638471600@octubre.cat
SUMMARY:Cinema: Un dia com un altre\, de Jordi Sebastià
DESCRIPTION:Una proposta cinematogràfica de Jordi Sebastià amb la presència escènica de Francesc Anyó i la música de Carles Santos. \nProjecció presentada pel director. \nUn home d’aspecte corrent vagabundeja per la ciutat seguit per la càmera i la música de Carles Santos. L’espectador descobreix a poc a poc\, que aquell home que podria ser el seu veí\, o potser ell mateix\, és un d’aquells que -per alguna raó- ha estat expulsat d’un sistema que\, a la vegada\, l’amaga a la perfecció. A través de la ficció\, l’espectador es troba amb una incòmoda veritat\, molt més quotidiana del que voldríem creure. \nGuió i direcció: Jordi Sebastià\nProtagonista: Francesc Anyó\nProducció: Jordi Sebastià\, Vicent Monsonís (Stanbrook Productions)\nRealització: Lucía Casañ\nFotografia: Borja Vázquez Salom\nMuntatge: Vicent Balbastre\nArt: Irene Ferrando\nDuració: 33 minuts
URL:https://octubre.cat/activitat/cinema-un-dia-com-un-altre-de-jordi-sebastia/
LOCATION:Sala d’actes
CATEGORIES:Cinema
ATTACH;FMTTYPE=image/jpeg:https://octubre.cat/www/wp-content/uploads/2021/11/UNDIA_Banner.jpg
END:VEVENT
END:VCALENDAR