BEGIN:VCALENDAR
VERSION:2.0
PRODID:-//Octubre Centre de Cultura Contemporània - ECPv5.1.6//NONSGML v1.0//EN
CALSCALE:GREGORIAN
METHOD:PUBLISH
X-WR-CALNAME:Octubre Centre de Cultura Contemporània
X-ORIGINAL-URL:https://octubre.cat
X-WR-CALDESC:Events for Octubre Centre de Cultura Contemporània
BEGIN:VTIMEZONE
TZID:Europe/Andorra
BEGIN:DAYLIGHT
TZOFFSETFROM:+0100
TZOFFSETTO:+0200
TZNAME:CEST
DTSTART:20210328T010000
END:DAYLIGHT
BEGIN:STANDARD
TZOFFSETFROM:+0200
TZOFFSETTO:+0100
TZNAME:CET
DTSTART:20211031T010000
END:STANDARD
END:VTIMEZONE
BEGIN:VEVENT
DTSTART;TZID=Europe/Andorra:20210526T180000
DTEND;TZID=Europe/Andorra:20210526T180000
DTSTAMP:20260420T132817
CREATED:20210519T111048Z
LAST-MODIFIED:20210522T065802Z
UID:16507-1622052000-1622052000@octubre.cat
SUMMARY:Cinema: Peset\, un home bo\, de Matilde Alcaraz i Santiago Hernández
DESCRIPTION:Als 80 anys del seu afusellament \nDesprés de la projecció\, col·loqui amb\n—Santiago Hernández\, codirector i periodista a À Punt\n—Matilde Alcaraz\, codirectora i periodista a À Punt\n—Josep Lluís Barona\, catedràtic d’Història de la ciència a la Universitat de València\n—Ángel González\, president de la Federació Coordinadora d’Associacions per la Memòria Democràtica \nEl 24 de maig de 1941 moria afusellat per la dictadura franquista contra el mur del cementeri de Paterna Joan Baptista Peset i Aleixandre\, metge\, diputat valencià i rector de la Universitat de València. Aquest és el primer documental que aborda la seua figura\, un projecte que compta amb la participació i la col·laboració de la família Peset. El documental reconstrueix tot el procés contra Peset a través dels documents que es conserven a l’Arxiu Militar del Ministeri de Defensa a Madrid. \n  \n \n  \nDirecció i guió: Matilde Alcaraz i Santiago Hernández (2016)\nRealització i postproducció: Josevi Marco\nDirecció de fotografia: Miguel Ángel Jiménez\nSonorització: Vicente Chust\nProducció: DocumentArt amb la col·laboració de la Universitat de València\nDurada: 46’ \nActivitat organitzada per Acicom amb la col·laboració de l’Octubre CCC
URL:https://octubre.cat/activitat/cinema-peset-un-home-bo-de-matilde-alcaraz-i-santiago-hernandez/
LOCATION:Sala d’actes
CATEGORIES:Cinema
ATTACH;FMTTYPE=image/jpeg:https://octubre.cat/www/wp-content/uploads/2021/05/Cartell-Peset-un-home-bo.jpg
END:VEVENT
END:VCALENDAR