BEGIN:VCALENDAR
VERSION:2.0
PRODID:-//Octubre Centre de Cultura Contemporània - ECPv5.1.6//NONSGML v1.0//EN
CALSCALE:GREGORIAN
METHOD:PUBLISH
X-WR-CALNAME:Octubre Centre de Cultura Contemporània
X-ORIGINAL-URL:https://octubre.cat
X-WR-CALDESC:Events for Octubre Centre de Cultura Contemporània
BEGIN:VTIMEZONE
TZID:Europe/Andorra
BEGIN:DAYLIGHT
TZOFFSETFROM:+0100
TZOFFSETTO:+0200
TZNAME:CEST
DTSTART:20160327T010000
END:DAYLIGHT
BEGIN:STANDARD
TZOFFSETFROM:+0200
TZOFFSETTO:+0100
TZNAME:CET
DTSTART:20161030T010000
END:STANDARD
END:VTIMEZONE
BEGIN:VEVENT
DTSTART;TZID=Europe/Andorra:20160115T190000
DTEND;TZID=Europe/Andorra:20160115T190000
DTSTAMP:20260421T224835
CREATED:20200729T171529Z
LAST-MODIFIED:20200729T185348Z
UID:10463-1452884400-1452884400@octubre.cat
SUMMARY:Cinema Pen-pals
DESCRIPTION:Divendres 15 de gener a les 19.00h. Projecció de curts produïts per alumnes de la Manchester School of Art\, organitzat pel col·legi Juan Comenius de València.  \n  \n  \n\n Al centre d’ensenyament Juan Comenius porten 9 anys celebrant el festival de curtmetratges Cortocomenius. Aquest any\, com a activitat paral·lela i fora del festival (que se celebra en novembre) es presenta ara una mostra de curtmetratges fets per alumnes de la Manchester School of Art. S’han seleccionat 9 curtmetratges que han estat realitzats per alumnes de segon curs.  A més de la qualitat dels curts\, el que motiva aquesta mostra és el projecte que s’està començant a desenvolupar aquest any entre l’escola valenciana i la de Manchester: Cinema Pen-pals. Un projecte que consisteix en una correspondència audiovisual entre alumnes dels dos centres. Cinema Pen-pals és un projecte on els alumnes poden participar lliurement i establir contacte mitjançant el poder de la imatge per a transmetre una mirada sobre el que ens envolta.   Curtmetratges seleccionats:  —Bad faith de Thomas Payton-Green —Roads de Moss Davis  —Just Desserts de Harriet Edwards  —Private d’Antony Morris  —Satellite de Benjamin Green.  —Desire de John Lloyd —Let food be thy medicine de William Lewis  —Ephemerals de Denice Chung  —Drifting de Liam Francis
URL:https://octubre.cat/activitat/cinema-pen-pals/
LOCATION:Sala d’actes
CATEGORIES:Cinema
ATTACH;FMTTYPE=image/jpeg:https://octubre.cat/www/wp-content/uploads/2020/07/activitat2477.jpg
END:VEVENT
END:VCALENDAR