BEGIN:VCALENDAR
VERSION:2.0
PRODID:-//Octubre Centre de Cultura Contemporània - ECPv5.1.6//NONSGML v1.0//EN
CALSCALE:GREGORIAN
METHOD:PUBLISH
X-WR-CALNAME:Octubre Centre de Cultura Contemporània
X-ORIGINAL-URL:https://octubre.cat
X-WR-CALDESC:Events for Octubre Centre de Cultura Contemporània
BEGIN:VTIMEZONE
TZID:Europe/Andorra
BEGIN:DAYLIGHT
TZOFFSETFROM:+0100
TZOFFSETTO:+0200
TZNAME:CEST
DTSTART:20220327T010000
END:DAYLIGHT
BEGIN:STANDARD
TZOFFSETFROM:+0200
TZOFFSETTO:+0100
TZNAME:CET
DTSTART:20221030T010000
END:STANDARD
END:VTIMEZONE
BEGIN:VEVENT
DTSTART;TZID=Europe/Andorra:20221017T180000
DTEND;TZID=Europe/Andorra:20221017T180000
DTSTAMP:20260420T202218
CREATED:20221006T090837Z
LAST-MODIFIED:20250629T101321Z
UID:18818-1666029600-1666029600@octubre.cat
SUMMARY:Cinema: Operació Elefteria\, de Gabi Ochoa
DESCRIPTION:El convuls desmuntatge el 9 de setembre de 1983 de l’escultura eqüestre de Franco en la plaça de l’Ajuntament de València\, llavors plaça del País Valencià\, va culminar l’inici de la Transició a València. Aquesta és la tesi de partida del documental ‘Operació Elefteria’\, dirigit per Gabi Ochoa\, que La República del Lápiz ha produït per a À Punt.\nLa producció reuneix a alguns dels principals protagonistes de la Transició en la tercera ciutat d’Espanya. Militars destinats a València durant el 23-F com l’ex JEMAD José Julio Rodríguez\, que prestava servei en la base aèria de Manises; polítics com l’ex president de la Generalitat i ara senador Joan Lerma\, que es trobava entre els diputats segrestats per Tejero; el que fora alcalde de València Ricard Pérez Casado\, protagonista d’aquells convulsos anys; periodistes com Ferran Belda; artistes com Carmen Calvo; tots ells donen testimoniatge del succeït en el trànsit entre 1979 i 1983\, quatre anys en què la ciutat va viure episodis com els tancs de Milans del Bosch pels seus carrers durant el 23-F. \n  \n \nDirecció: Gabriel Ochoa\nGuió: Carlos Aimeur i Gabriel Ochoa\nSo Directe: Kike Navarro\nDisseny de so: Ivan Martínez-Rufat (GODFADER)\nColor: Carlos Corresa\nGrafisme: Albert Val\nMuntatge: Iñaki Antuñano\nRealització: Pau Martínez\nDirecció de fotografia: Hernán Pérez\nContinguts À Punt Mèdia: Mónica Giner\nProducció Executiva: À Punt Mèdia\, Miriam Civera\nProducció Executiva: la república del lápiz\, Ferran Benavent\nProduït per À Punt Mèdia amb producció delegada de la república del lápiz\nIdioma: valencià\nDurada: 48’
URL:https://octubre.cat/activitat/cinema-operacio-elefteria-de-gabi-ochoa/
LOCATION:Sala d’actes
CATEGORIES:Cinema
ATTACH;FMTTYPE=image/jpeg:https://octubre.cat/www/wp-content/uploads/2022/10/franco.jpg
END:VEVENT
END:VCALENDAR