BEGIN:VCALENDAR
VERSION:2.0
PRODID:-//Octubre Centre de Cultura Contemporània - ECPv5.1.6//NONSGML v1.0//EN
CALSCALE:GREGORIAN
METHOD:PUBLISH
X-WR-CALNAME:Octubre Centre de Cultura Contemporània
X-ORIGINAL-URL:https://octubre.cat
X-WR-CALDESC:Events for Octubre Centre de Cultura Contemporània
BEGIN:VTIMEZONE
TZID:Europe/Andorra
BEGIN:DAYLIGHT
TZOFFSETFROM:+0100
TZOFFSETTO:+0200
TZNAME:CEST
DTSTART:20260329T010000
END:DAYLIGHT
BEGIN:STANDARD
TZOFFSETFROM:+0200
TZOFFSETTO:+0100
TZNAME:CET
DTSTART:20261025T010000
END:STANDARD
END:VTIMEZONE
BEGIN:VEVENT
DTSTART;TZID=Europe/Andorra:20260311T180000
DTEND;TZID=Europe/Andorra:20260311T180000
DTSTAMP:20260422T193142
CREATED:20260120T173010Z
LAST-MODIFIED:20260206T084854Z
UID:24806-1773252000-1773252000@octubre.cat
SUMMARY:Cinema: Obrint horitzons\, de Sara Khaki i Mohammadreza Eyni
DESCRIPTION:Pel·lícula nominada als Oscars 2026 a millor llargmetratge documental \nQuan es converteix en la primera regidora electa del seu poble natal a l’Iran\, la Sara Shahverdi es proposa trencar tradicions patriarcals molt arrelades. Empodera les adolescents\, les ensenya a anar amb moto i pretén acabar amb els matrimonis infantils. Quan sorgeixen acusacions que qüestionen les seves intencions\, la seva identitat es veurà pertorbada. \n  \n \n  \nDirecció: Sara Khaki\, Mohammadreza Eyni\nTítol original: Cutting Through Rocks\nMúsica: Karim Sebastian Elias\nProducció: Sara Khaki\, Mohammadreza Eyni\nCoproducció: Qatar\, Xile\, Canadà\, Alemanya\, 2024\nVO en persa\, azerbaidjanès subtitulada en català\nDurada: 95’ \n  \n \n  \nCicle “Acció Documental +” organitzat per ACICOM i ACPV. DocsBarcelona / El documental del mes.
URL:https://octubre.cat/activitat/cinema-obrint-horitzons-de-sara-khaki-i-mohammadreza-eyni/
LOCATION:Sala d’actes
CATEGORIES:Acció Documental +
ATTACH;FMTTYPE=image/png:https://octubre.cat/www/wp-content/uploads/2026/01/CUTTING_THROUGH_ROCKS_thumbnail.png
END:VEVENT
END:VCALENDAR