BEGIN:VCALENDAR
VERSION:2.0
PRODID:-//Octubre Centre de Cultura Contemporània - ECPv5.1.6//NONSGML v1.0//EN
CALSCALE:GREGORIAN
METHOD:PUBLISH
X-WR-CALNAME:Octubre Centre de Cultura Contemporània
X-ORIGINAL-URL:https://octubre.cat
X-WR-CALDESC:Events for Octubre Centre de Cultura Contemporània
BEGIN:VTIMEZONE
TZID:Europe/Andorra
BEGIN:DAYLIGHT
TZOFFSETFROM:+0100
TZOFFSETTO:+0200
TZNAME:CEST
DTSTART:20230326T010000
END:DAYLIGHT
BEGIN:STANDARD
TZOFFSETFROM:+0200
TZOFFSETTO:+0100
TZNAME:CET
DTSTART:20231029T010000
END:STANDARD
END:VTIMEZONE
BEGIN:VEVENT
DTSTART;TZID=Europe/Andorra:20230323T180000
DTEND;TZID=Europe/Andorra:20230323T180000
DTSTAMP:20260421T132041
CREATED:20230316T085908Z
LAST-MODIFIED:20250710T093443Z
UID:19643-1679594400-1679594400@octubre.cat
SUMMARY:Cinema: L’assistent\, de Kitty Green
DESCRIPTION:La primera gran pel·lícula sobre el moviment #MeToo. Inspirada en el Cas Weinstein\, explora les dinàmiques d’abús masclista dins la indústria del cinema. Una pel·lícula que generarà debat. \nLa Jane (Julia Garner) és una recentment graduada universitària i aspirant a productora de cinema que aconsegueix una feina aparentment ideal com a assistent d’un poderós executiu de la indústria de l’entreteniment. El seu dia és molt similar al de qualsevol altra assistenta: preparar café\, canviar el paper de la fotocopiadora\, servir l’esmorzar\, organitzar viatges\, rebre missatges telefònics\, etc. Però a mesura que segueix la seua rutina diària\, la Jane és cada vegada més conscient de l’abús que defineix insidiosament cada aspecte de la seua jornada laboral\, una acumulació de degradacions enfront de les quals haurà de decidir què fer. \nDirecció i guió: Kitty Green\nMúsica: Tamar-Kali Brown\nFotografia: Michael Latham\nRepartiment: Julia Garner\, Matthew Macfadyen\, Dagmara Dominczyk\, Kristine Froseth\, Patrick Wilson\, Mackenzie Leigh\, Juliana Canfield\nEstats Units (2019)\nVersió doblada al català\nDurada: 87’ \n  \n \n  \nProjecció organitzada per Cappepv / Escola Valenciana amb la col·laboració de l’Octubre CCC.
URL:https://octubre.cat/activitat/cinema-lassistent-de-kitty-green/
LOCATION:Sala d’actes
CATEGORIES:Cinema
ATTACH;FMTTYPE=image/jpeg:https://octubre.cat/www/wp-content/uploads/2023/03/assistent-film.jpg
END:VEVENT
END:VCALENDAR