BEGIN:VCALENDAR
VERSION:2.0
PRODID:-//Octubre Centre de Cultura Contemporània - ECPv5.1.6//NONSGML v1.0//EN
CALSCALE:GREGORIAN
METHOD:PUBLISH
X-WR-CALNAME:Octubre Centre de Cultura Contemporània
X-ORIGINAL-URL:https://octubre.cat
X-WR-CALDESC:Events for Octubre Centre de Cultura Contemporània
BEGIN:VTIMEZONE
TZID:Europe/Andorra
BEGIN:DAYLIGHT
TZOFFSETFROM:+0100
TZOFFSETTO:+0200
TZNAME:CEST
DTSTART:20220327T010000
END:DAYLIGHT
BEGIN:STANDARD
TZOFFSETFROM:+0200
TZOFFSETTO:+0100
TZNAME:CET
DTSTART:20221030T010000
END:STANDARD
END:VTIMEZONE
BEGIN:VEVENT
DTSTART;TZID=Europe/Andorra:20220126T190000
DTEND;TZID=Europe/Andorra:20220126T190000
DTSTAMP:20260420T125121
CREATED:20220110T174529Z
LAST-MODIFIED:20220110T174529Z
UID:17605-1643223600-1643223600@octubre.cat
SUMMARY:Cinema: Las razones del lobo\, de Marta Hincapié Uribe
DESCRIPTION:Projecció de la Menció Especial de Llargmetratge Documental\, Biennal Dona i Cinema 2021 \nEls records d’una família atípica\, en un lloc típic i convencional de Medellín (Colòmbia)\, fan un retrat dels últims 50 anys de violència del país. Els records\, narrats en primera persona per la documentalista\, comprenen des del sorgiment de la guerrilla de l’M-19 en 1970 fins a les votacions del plebiscit per la pau\, fruit de les negociacions entre el govern colombià i la guerrilla de les FARC en el 2016. La família atípica la conformen un pare conservador que va ser alcalde de Medellín i una mare acadèmica\, intel·lectual i investigadora de la violència amenaçada de mort i exiliada a conseqüència de les seues idees i investigacions. El lloc típic és un club social i esportiu de l’elit de Medellín que prompte farà 100 anys\, i des d’on encara es decideixen els destins polítics de tot el país \nDirecció: Marta Hincapié Uribe (2020)\nFotografia: Santiago Herrera\nColòmbia\nVersió original en castellà subtitulada en anglès\nDurada: 70’ \n  \n \n  \nComunicadora social i directora de documentals en el Centre d’Estudis Cinematogràfics de Catalunya\, Marta Hincapié Uribe va viure a Barcelona de 1999 a 2009. Va ser col·laboradora habitual en els espais documentals de La 2 de Televisió Espanyola\, professora de documental en la Universitat de Vic i en l’escola de cinema ESCAC (Terrassa). Actualment és professora de documental en la Facultat de Comunicació Audiovisual de la Universitat d’Antioquia (Colòmbia) i d’Apreciació Cinematogràfica a l’Escola Yurupary de Medellín (Colòmbia). \n  \n \n—\nPalmarès Dona i Cinema és un cicle de cinema que inclou les pel·lícules guanyadores de l’anterior edició de la Biennal Dona i Cinema. Amb la col·laboració de l’Octubre CCC.
URL:https://octubre.cat/activitat/cinema-las-razones-del-lobo-de-marta-hincapie-uribe/
LOCATION:Sala d’actes
CATEGORIES:Palmarès Dona i Cinema
ATTACH;FMTTYPE=image/jpeg:https://octubre.cat/www/wp-content/uploads/2022/01/Las-razones-del-lobo.jpg
END:VEVENT
END:VCALENDAR