BEGIN:VCALENDAR
VERSION:2.0
PRODID:-//Octubre Centre de Cultura Contemporània - ECPv5.1.6//NONSGML v1.0//EN
CALSCALE:GREGORIAN
METHOD:PUBLISH
X-WR-CALNAME:Octubre Centre de Cultura Contemporània
X-ORIGINAL-URL:https://octubre.cat
X-WR-CALDESC:Events for Octubre Centre de Cultura Contemporània
BEGIN:VTIMEZONE
TZID:Europe/Andorra
BEGIN:DAYLIGHT
TZOFFSETFROM:+0100
TZOFFSETTO:+0200
TZNAME:CEST
DTSTART:20250330T010000
END:DAYLIGHT
BEGIN:STANDARD
TZOFFSETFROM:+0200
TZOFFSETTO:+0100
TZNAME:CET
DTSTART:20251026T010000
END:STANDARD
END:VTIMEZONE
BEGIN:VEVENT
DTSTART;TZID=Europe/Andorra:20250622T183000
DTEND;TZID=Europe/Andorra:20250622T183000
DTSTAMP:20260420T183732
CREATED:20250602T095125Z
LAST-MODIFIED:20250613T080147Z
UID:22878-1750617000-1750617000@octubre.cat
SUMMARY:Cinema Jove 2025: Blade Runner\, de Ridley Scott
DESCRIPTION:Novembre de 2019. Tyrell Corporation ha creat\, gràcies als progressos de l’enginyeria genètica\, un robot anomenat “Nexus 6”\, un ser virtualment idèntic als humans però superior a ells en força i agilitat. Aquest nou androide es coneix com a replicant. Després d’un greu incident\, l’ex blade runner Rick Deckard és convocat de nou per a trobar i “retirar” quatre replicants rebels que busquen el seu creador.  \nDirecció: Ridley Scott\nGuió: David Webb Peoples i Hampton Fancher sobre una novel·la de Philip K. Dick\nMúsica: Vangelis\nFotografia: Jordan Cronenweth\nRepartiment: Harrison Ford\, Rutger Hauer\, Sean Young\, Daryl Hannah\nProducció: Warner Bros.\, Ladd Company\, Shaw Brothers\nEstats Units\, 1982\nDurada: 117’ \n  \n \n—\nOrganitzat pel festival Cinema Jove amb la col·laboració de l’Octubre CCC.\nL’edició número 40 de Cinema Jove\, Festival Internacional de València\, se celebra del 19 al 28 de juny a diversos llocs de la ciutat de València. A l’Octubre CCC presentem la secció «El jove Ridley Scott» dedicada a les primeres produccions d’aquest cineasta.
URL:https://octubre.cat/activitat/cinema-jove-2025-blade-runner-de-ridley-scott/
LOCATION:Sala d’actes
CATEGORIES:Cinema Jove 2025
ATTACH;FMTTYPE=image/jpeg:https://octubre.cat/www/wp-content/uploads/2025/06/BLADE-RUNNER_RIDDLEY-SCOTT-1024x668-1.jpg
END:VEVENT
END:VCALENDAR