BEGIN:VCALENDAR
VERSION:2.0
PRODID:-//Octubre Centre de Cultura Contemporània - ECPv5.1.6//NONSGML v1.0//EN
CALSCALE:GREGORIAN
METHOD:PUBLISH
X-WR-CALNAME:Octubre Centre de Cultura Contemporània
X-ORIGINAL-URL:https://octubre.cat
X-WR-CALDESC:Events for Octubre Centre de Cultura Contemporània
BEGIN:VTIMEZONE
TZID:Europe/Andorra
BEGIN:DAYLIGHT
TZOFFSETFROM:+0100
TZOFFSETTO:+0200
TZNAME:CEST
DTSTART:20240331T010000
END:DAYLIGHT
BEGIN:STANDARD
TZOFFSETFROM:+0200
TZOFFSETTO:+0100
TZNAME:CET
DTSTART:20241027T010000
END:STANDARD
END:VTIMEZONE
BEGIN:VEVENT
DTSTART;TZID=Europe/Andorra:20240622T183000
DTEND;TZID=Europe/Andorra:20240622T183000
DTSTAMP:20260421T180832
CREATED:20240529T152604Z
LAST-MODIFIED:20240529T152604Z
UID:21373-1719081000-1719081000@octubre.cat
SUMMARY:Cinema Jove 2024: Frankenweenie\, de Tim Burton
DESCRIPTION:Víctor Frankenstein és un xiquet que realitza curts on el seu gos Sparky és el protagonista\, fins que aquest és atropellat per un camió. A la seua escola\, Víctor aprèn sobre l’impuls elèctric dels músculs i se li acudeix fer servir aquesta tècnica per a reviure la seua mascota. \nDirecció: Tim Burton\nGuió: Leonard Ripps\nMúsica: Michael Convertino\, David Newman\nFotografia: Thomas E. Ackerman\nRepartiment: Barret Oliver\, Shelley Duvall\, Daniel Stern\, Joseph Maher\nProducció: Buena Vista Pictures.\nEstat Units\, 1984\nDurada: 25’ \n  \n \n—\nOrganitzat pel festival Cinema Jove amb la col·laboració de l’Octubre CCC.\nL’edició número 39 de Cinema Jove\, Festival Internacional de València\, se celebra del 20 al 29 de juny a diversos llocs de la ciutat de València (Rialto\, Teatre Principal\, Fábrica de Hielo\, CM Rector Peset\, Centre del Carme\, Espai Túria) i a l’Octubre CCC presentem la secció «El jove Tim Burton» dedicada a les primeres produccions del cineasta californià Tim Burton.
URL:https://octubre.cat/activitat/cinema-jove-2024-frankenweenie-de-tim-burton/
CATEGORIES:Cinema Jove 2024
ATTACH;FMTTYPE=image/jpeg:https://octubre.cat/www/wp-content/uploads/2024/05/frankenweenie-principal-1024x576-1.jpg
END:VEVENT
END:VCALENDAR