BEGIN:VCALENDAR
VERSION:2.0
PRODID:-//Octubre Centre de Cultura Contemporània - ECPv5.1.6//NONSGML v1.0//EN
CALSCALE:GREGORIAN
METHOD:PUBLISH
X-WR-CALNAME:Octubre Centre de Cultura Contemporània
X-ORIGINAL-URL:https://octubre.cat
X-WR-CALDESC:Events for Octubre Centre de Cultura Contemporània
BEGIN:VTIMEZONE
TZID:Europe/Andorra
BEGIN:DAYLIGHT
TZOFFSETFROM:+0100
TZOFFSETTO:+0200
TZNAME:CEST
DTSTART:20230326T010000
END:DAYLIGHT
BEGIN:STANDARD
TZOFFSETFROM:+0200
TZOFFSETTO:+0100
TZNAME:CET
DTSTART:20231029T010000
END:STANDARD
END:VTIMEZONE
BEGIN:VEVENT
DTSTART;TZID=Europe/Andorra:20230627T183000
DTEND;TZID=Europe/Andorra:20230627T183000
DTSTAMP:20260422T044337
CREATED:20230612T153121Z
LAST-MODIFIED:20230612T153121Z
UID:20137-1687890600-1687890600@octubre.cat
SUMMARY:Cinema Jove 2023: Scanners\, de David Cronenberg
DESCRIPTION:Només 237 persones a tot el món són “scanners”\, éssers humans amb uns extraordinaris poders mentals. Darryl Revok\, el més poderós\, és el cap del grup. Tots ells són capaços de controlar les ments dels altres i poden provocar terribles patiments a les víctimes. Quan el doctor Paul Ruth descobreix un scanner amb més poders que Revok\, decideix utilitzar-lo per acabar amb el grup. \nDirecció i guió: David Cronenberg\nMúsica: Howard Shore\nFotografia: Mark Irwin\nRepartiment: Jennifer O’Neill\, Stephen Lack\, Patrick McGoohan\, Lawrence Dane\, Michael Ironside\nProducció: CFDC\nPaís: Canadà\nAny: 1981\nDuració: 102 min \n  \n \n—\nOrganitzat pel festival Cinema Jove amb la col·laboració de l’Octubre CCC.\nL’edició número 38 de Cinema Jove\, Festival Internacional de València\, se celebra del 22 de juny a l’1 de juliol de 2023 a diversos llocs de la ciutat de València (Rialto\, Teatre Principal\, Centre del Carme\, CM Rector Peset\, Espai Túria) i a l’Octubre CCC presentem la secció «El jove Cronenberg» dedicada a les primeres produccions del cineasta canadenc David Cronenberg.
URL:https://octubre.cat/activitat/cinema-jove-2023-scanners-de-david-cronenberg/
LOCATION:Sala d’actes
CATEGORIES:Cinema Jove 2023
ATTACH;FMTTYPE=image/jpeg:https://octubre.cat/www/wp-content/uploads/2023/06/scanners-foto-1-1024x578-1.jpeg
END:VEVENT
END:VCALENDAR