BEGIN:VCALENDAR
VERSION:2.0
PRODID:-//Octubre Centre de Cultura Contemporània - ECPv5.1.6//NONSGML v1.0//EN
CALSCALE:GREGORIAN
METHOD:PUBLISH
X-WR-CALNAME:Octubre Centre de Cultura Contemporània
X-ORIGINAL-URL:https://octubre.cat
X-WR-CALDESC:Events for Octubre Centre de Cultura Contemporània
BEGIN:VTIMEZONE
TZID:Europe/Andorra
BEGIN:DAYLIGHT
TZOFFSETFROM:+0100
TZOFFSETTO:+0200
TZNAME:CEST
DTSTART:20230326T010000
END:DAYLIGHT
BEGIN:STANDARD
TZOFFSETFROM:+0200
TZOFFSETTO:+0100
TZNAME:CET
DTSTART:20231029T010000
END:STANDARD
END:VTIMEZONE
BEGIN:VEVENT
DTSTART;TZID=Europe/Andorra:20230624T183000
DTEND;TZID=Europe/Andorra:20230624T183000
DTSTAMP:20260422T044336
CREATED:20230612T094701Z
LAST-MODIFIED:20230612T094701Z
UID:20127-1687631400-1687631400@octubre.cat
SUMMARY:Cinema Jove 2023: Rabid\, de David Cronenberg
DESCRIPTION:Desfigurada després d’un accident de moto\, una xica se sotmet a una sèrie de cirurgies que la transformen en una criatura híbrida que adora la carn humana. \nDirecció i guió: David Cronenberg\nFotografia: René Verzier\nRepartiment: Marilyn Chambers\, Frank Moore\, Joe Silver\, Susan Roman\nProducció: CFDC\nPaís: Canadà\nAny: 1977\nDuració: 90 min \n  \n \n—\nOrganitzat pel festival Cinema Jove amb la col·laboració de l’Octubre CCC.\nL’edició número 38 de Cinema Jove\, Festival Internacional de València\, se celebra del 22 de juny a l’1 de juliol de 2023 a diversos llocs de la ciutat de València (Rialto\, Teatre Principal\, Centre del Carme\, CM Rector Peset\, Espai Túria) i a l’Octubre CCC presentem la secció «El jove Cronenberg» dedicada a les primeres produccions del cineasta canadenc David Cronenberg.
URL:https://octubre.cat/activitat/cinema-jove-2023-rabid-de-david-cronenberg/
LOCATION:Sala d’actes
CATEGORIES:Cinema Jove 2023
ATTACH;FMTTYPE=image/jpeg:https://octubre.cat/www/wp-content/uploads/2023/06/rabia.jpeg
END:VEVENT
END:VCALENDAR