BEGIN:VCALENDAR
VERSION:2.0
PRODID:-//Octubre Centre de Cultura Contemporània - ECPv5.1.6//NONSGML v1.0//EN
CALSCALE:GREGORIAN
METHOD:PUBLISH
X-WR-CALNAME:Octubre Centre de Cultura Contemporània
X-ORIGINAL-URL:https://octubre.cat
X-WR-CALDESC:Events for Octubre Centre de Cultura Contemporània
BEGIN:VTIMEZONE
TZID:Europe/Andorra
BEGIN:DAYLIGHT
TZOFFSETFROM:+0100
TZOFFSETTO:+0200
TZNAME:CEST
DTSTART:20220327T010000
END:DAYLIGHT
BEGIN:STANDARD
TZOFFSETFROM:+0200
TZOFFSETTO:+0100
TZNAME:CET
DTSTART:20221030T010000
END:STANDARD
END:VTIMEZONE
BEGIN:VEVENT
DTSTART;TZID=Europe/Andorra:20220223T190000
DTEND;TZID=Europe/Andorra:20220223T190000
DTSTAMP:20260420T141118
CREATED:20220110T202112Z
LAST-MODIFIED:20220120T101328Z
UID:17616-1645642800-1645642800@octubre.cat
SUMMARY:Cinema: Holy Boom\, de Maria Lafi
DESCRIPTION:Projecció del Millor Llargmetratge de Ficció\, Biennal Dona i Cinema 2021 \nHoly Boom és un llargmetratge de ficció amb múltiples històries i que té lloc en una zona multicultural d’Atenes durant la Pasqua ortodoxa. Les vides de quatre desconeguts\, que viuen en el mateix veïnat\, canvien dramàticament quan\, el Diumenge de Rams\, la bústia del veïnat és destrossada\, simplement per diversió\, per l’adolescent filipí Ige. Documents de vital importància per a tots ells han sigut destruïts: el LSD de Lena i Manou\, una carta a Thalia del seu fill abandonat i el certificat de naixement d’Adia. Les conseqüències són implacables: Lena i Manou són perseguits pel traficant de drogues que vol recuperar els seus diners. Adia\, una immigrant il·legal\, està ara sola amb el seu fill de bolquers\, sense poder ni tan sols identificar el cadàver del seu marit\, que acaba de morir en un accident de cotxe. Ige intenta en va ser acceptat per la comunitat local i Thalia\, que està observant a tots els veïns\, ha perdut la seua única oportunitat de trobar la felicitat. \nDirecció: Maria Lafi (2018)\nRepartiment: Nena Menti\, Luli Bitri\, Anastasia Rafaela Konidi\, Samuel Akinola\nGrècia\nVersió original subtitulada en castellà i anglès\nDurada: 99’ \n  \n \n  \nMaria Lafi va néixer el 1967 a Atenes\, Grècia. Va estudiar Fotografia i Arts Audiovisuals al Technological Educational Institute d’Athens i Direcció de Cinema al Hellenic Cinema and Television School de Stavrakos a Atenes. Després va completar els seus estudis amb un Màster d’Arts en Producció de Video\, Mitjans Audiovisuals i Motion Graphics a la Universitat de West Attica. Ha realitzat diversos curtmetratges premiats\, com For eternity (2014) i Circ de la vida (2016)\, mentre que el seu primer llargmetratge Holy Boom (2018) va rebre múltiples premis internacionals\, com el de millor pel·lícula al 23 Festival de Cinema de Saragossa i el Gran Premi del Festival Internacional Du Film De Fes al Marroc. També ha rebut nombroses mencions honorífiques i ha estat nominada per la Hellenic Film Academy per al premi de debut com a directora. \n  \n \n—\nPalmarès Dona i Cinema és un cicle de cinema que inclou les pel·lícules guanyadores de l’anterior edició de la Biennal Dona i Cinema. Amb la col·laboració de l’Octubre CCC.
URL:https://octubre.cat/activitat/cinema-holy-boom-de-maria-lafi/
LOCATION:Sala d’actes
CATEGORIES:Palmarès Dona i Cinema
ATTACH;FMTTYPE=image/jpeg:https://octubre.cat/www/wp-content/uploads/2022/01/Photo-1-HolyBoom_Menti_Bitri.jpg
END:VEVENT
END:VCALENDAR