BEGIN:VCALENDAR
VERSION:2.0
PRODID:-//Octubre Centre de Cultura Contemporània - ECPv5.1.6//NONSGML v1.0//EN
CALSCALE:GREGORIAN
METHOD:PUBLISH
X-WR-CALNAME:Octubre Centre de Cultura Contemporània
X-ORIGINAL-URL:https://octubre.cat
X-WR-CALDESC:Events for Octubre Centre de Cultura Contemporània
BEGIN:VTIMEZONE
TZID:Europe/Andorra
BEGIN:DAYLIGHT
TZOFFSETFROM:+0100
TZOFFSETTO:+0200
TZNAME:CEST
DTSTART:20240331T010000
END:DAYLIGHT
BEGIN:STANDARD
TZOFFSETFROM:+0200
TZOFFSETTO:+0100
TZNAME:CET
DTSTART:20241027T010000
END:STANDARD
END:VTIMEZONE
BEGIN:VEVENT
DTSTART;TZID=Europe/Andorra:20240911T180000
DTEND;TZID=Europe/Andorra:20240911T180000
DTSTAMP:20260420T120945
CREATED:20240710T092434Z
LAST-MODIFIED:20250713T082330Z
UID:21527-1726077600-1726077600@octubre.cat
SUMMARY:Cinema: Hágase tu voluntad\, d’Adrián Silvestre
DESCRIPTION:Sessió presentada pel director Adrián Silvestre. \nEl Ricardo ha estat sempre un vividor. Hedonista i una mica sarcàstic\, veu com la seva vida s’ensorra quan perd la seva parella i pateix dos ictus. Sol\, borni i amb dificultats per caminar\, entra en un estat de depressió i ansietat. Creu que la mort serà l’única solució als seus problemes. Però abans de deixar aquest món\, li agradaria tornar a veure els seus dos fills\, que van tallar la relació amb ell fa més de vint anys. El procés de reconstrucció dels vincles familiars trencats convertiran el viatge emocional d’aquesta família en un relat agredolç que ens parla de la complexitat dels llaços entre pares i fills\, i la necessitat de reconèixer el dret de tot ésser humà a decidir sobre el final de la pròpia vida. \n  \n \n  \nDirecció: Adrián Silvestre\nProducció: Producciones del Barrio\, Nanouk Films & Atresmedia Cine.\nEspanya\, 2024\nVO en català i castellà\nDurada: 98’ \n  \n \nCicle “Acció Documental +” organitzat per ACICOM i ACPV. DocsBarcelona / El documental del mes.
URL:https://octubre.cat/activitat/cinema-hagase-tu-voluntad-dadrian-silvestre/
LOCATION:Sala d’actes
CATEGORIES:Acció Documental +
ATTACH;FMTTYPE=image/png:https://octubre.cat/www/wp-content/uploads/2024/07/STILL-6-ADRIAN.png
END:VEVENT
END:VCALENDAR