BEGIN:VCALENDAR
VERSION:2.0
PRODID:-//Octubre Centre de Cultura Contemporània - ECPv5.1.6//NONSGML v1.0//EN
CALSCALE:GREGORIAN
METHOD:PUBLISH
X-WR-CALNAME:Octubre Centre de Cultura Contemporània
X-ORIGINAL-URL:https://octubre.cat
X-WR-CALDESC:Events for Octubre Centre de Cultura Contemporània
BEGIN:VTIMEZONE
TZID:Europe/Andorra
BEGIN:DAYLIGHT
TZOFFSETFROM:+0100
TZOFFSETTO:+0200
TZNAME:CEST
DTSTART:20100328T010000
END:DAYLIGHT
BEGIN:STANDARD
TZOFFSETFROM:+0200
TZOFFSETTO:+0100
TZNAME:CET
DTSTART:20101031T010000
END:STANDARD
END:VTIMEZONE
BEGIN:VEVENT
DTSTART;TZID=Europe/Andorra:20100327T190000
DTEND;TZID=Europe/Andorra:20100327T190000
DTSTAMP:20260420T184238
CREATED:20200729T164735Z
LAST-MODIFIED:20200729T182809Z
UID:8735-1269716400-1269716400@octubre.cat
SUMMARY:Cinema dins del cinema
DESCRIPTION:Dissabte 27 de març\, a les 19.00h: “Cinema dins del cinema”\, amb el realitzador Alfonso Amador.   \n  \n  \n\nTres peces curtes d’Alfonso Amador\, amb la  presència del realitzador.   El cinema apareix en aquests tres treballs de manera diferent. Todo lo que necesitas para hacer una película és l’únic dels tres que es planteja des de l’inici\, conscientment\, com una pel·lícula sobre el cine. En les altres dues peces\, el cine simplement sobrevé. Apareix pel camí. Separats en el temps i realitzats en circumstàncies i amb objectius molt diferents\, no deixa de sorprendre que mantinguen una certa unitat temàtica. Contemplant-los junts i amb una certa distància\, tots tres comparteixen un origen comú: és un instant que es repeteix cada vegada que comença una pel·lícula. S’apaguen els llums\, s’escolta el so del projector que arranca\, tothom s’hi acomoda\, s’il·lumina la pantalla. La pel·lícula comença. Què n’és de divertit el cine. I\, al capdavall\, totes les pel·lícules són discursos sobre el cinema\, d’una manera o d’altra.
URL:https://octubre.cat/activitat/cinema-dins-del-cinema/
LOCATION:No definit
CATEGORIES:entre la ficció i el documental,Nous realitzadors valencians
ATTACH;FMTTYPE=image/jpeg:https://octubre.cat/www/wp-content/uploads/2020/07/activitat1080.jpg
END:VEVENT
END:VCALENDAR