BEGIN:VCALENDAR
VERSION:2.0
PRODID:-//Octubre Centre de Cultura Contemporània - ECPv5.1.6//NONSGML v1.0//EN
CALSCALE:GREGORIAN
METHOD:PUBLISH
X-WR-CALNAME:Octubre Centre de Cultura Contemporània
X-ORIGINAL-URL:https://octubre.cat
X-WR-CALDESC:Events for Octubre Centre de Cultura Contemporània
BEGIN:VTIMEZONE
TZID:Europe/Andorra
BEGIN:DAYLIGHT
TZOFFSETFROM:+0100
TZOFFSETTO:+0200
TZNAME:CEST
DTSTART:20230326T010000
END:DAYLIGHT
BEGIN:STANDARD
TZOFFSETFROM:+0200
TZOFFSETTO:+0100
TZNAME:CET
DTSTART:20231029T010000
END:STANDARD
END:VTIMEZONE
BEGIN:VEVENT
DTSTART;TZID=Europe/Andorra:20231214T183000
DTEND;TZID=Europe/Andorra:20231214T183000
DTSTAMP:20260422T115959
CREATED:20231204T161232Z
LAST-MODIFIED:20231212T105630Z
UID:20681-1702578600-1702578600@octubre.cat
SUMMARY:Cinema: Después de...(1. No se os puede dejar solos?)\, de José Juan i Cecilia Bartolomé
DESCRIPTION:Presentació i col·loqui posterior amb Francesc Picó\, productor i guionista\, cofundador de l’Aula de Cinema de la Universitat de València. \nDespués de… és un reportatge en dues parts filmat entre abril de 1979 i finals de 1980 pels germans José Juan i Cecilia Bartolomé:\n—No se os puede dejar solos?\, primera part que projectem el 14 de desembre\n–Atado y bien atado\, segona part que projectem el 21 de desembre \nIniciada tres anys després de la mort de Franco i finalitzada un mes abans del frustrat cop d’Estat del 23 de febrer de 1981\, Después de… és una pel·lícula documental on es mostren algunes de les claus de la crisi social i política amb què s’enfronta la democràcia espanyola\, ja que recull els canvis registrats després de la mort de Franco\, les reaccions dels espanyols davant de la nova situació i els problemes que planteja una democràcia nascuda\, sense ruptura\, de la dictadura anterior. \n  \n \n  \nDirecció: José Juan i Cecilia Bartolomé\nDocumental\nEspanya\, 1981\nDurada: 90’ \n  \n \n  \nMés informació sobre Cecília Bartolomé (Alacant\, 1940) i la pel·lícula en aquest enllaç de la Viquipèdia. \n—\nOrganitzat per la Biennal Dona i Cinema amb la col·laboració de l’Octubre CCC.
URL:https://octubre.cat/activitat/cinema-despues-de-1-no-se-os-puede-dejar-solos-de-jose-juan-i-cecilia-bartolome/
LOCATION:Sala d’actes
CATEGORIES:Cinema
ATTACH;FMTTYPE=image/jpeg:https://octubre.cat/www/wp-content/uploads/2023/12/cecilia-bartolome-13-08-19-web.jpeg
END:VEVENT
END:VCALENDAR