BEGIN:VCALENDAR
VERSION:2.0
PRODID:-//Octubre Centre de Cultura Contemporània - ECPv5.1.6//NONSGML v1.0//EN
CALSCALE:GREGORIAN
METHOD:PUBLISH
X-WR-CALNAME:Octubre Centre de Cultura Contemporània
X-ORIGINAL-URL:https://octubre.cat
X-WR-CALDESC:Events for Octubre Centre de Cultura Contemporània
BEGIN:VTIMEZONE
TZID:Europe/Andorra
BEGIN:DAYLIGHT
TZOFFSETFROM:+0100
TZOFFSETTO:+0200
TZNAME:CEST
DTSTART:20250330T010000
END:DAYLIGHT
BEGIN:STANDARD
TZOFFSETFROM:+0200
TZOFFSETTO:+0100
TZNAME:CET
DTSTART:20251026T010000
END:STANDARD
END:VTIMEZONE
BEGIN:VEVENT
DTSTART;TZID=Europe/Andorra:20250129T180000
DTEND;TZID=Europe/Andorra:20250129T180000
DTSTAMP:20260421T062725
CREATED:20241215T100609Z
LAST-MODIFIED:20250205T162400Z
UID:22078-1738173600-1738173600@octubre.cat
SUMMARY:Cinema: Casa Reynal\, de Laia Manresa
DESCRIPTION:Projecció presentada per la directora\, Laia Manresa. \nDesprés de la mort de l’àvia de la directora\, la seva mare decideix vendre Casa Reynal\, la casa pairal situada a Bellvís\, al Pla d’Urgell. Amb la seva família es desplaça fins allà per tancar la casa. Mentre endrecen armaris i fan caixes\, es van trobant amb rastres del passat familiar i la directora decideix rescatar la biografia de la padrina\, marcada pel seu viatge migratori del camp a la ciutat i per la mort del seu fill petit quan tenia vuit anys. És l’inici de la primavera i les orenetes\, que fan niu al pati des de fa anys\, acaben d’arribar. En realitat\, la família fa el mateix que elles: tornar al lloc dels seus orígens. Aquest retorn esdevé un viatge íntim en el temps\, que enllaça la història privada de tres generacions amb la nostra història col·lectiva recent. \n  \n \n  \nDirecció: Laia Manresa\nSo: Elena Coderch\nProducció: Films de l’Orient\, Video Profilmar\nEspanya\, 2024\nVO en català\nDurada: 90’ \n \n  \n \nCicle “Acció Documental +” organitzat per ACICOM i ACPV. DocsBarcelona / El documental del mes.
URL:https://octubre.cat/activitat/cinema-casa-reynal-de-laia-manresa/
LOCATION:Sala d’actes
CATEGORIES:Acció Documental +
ATTACH;FMTTYPE=image/jpeg:https://octubre.cat/www/wp-content/uploads/2024/12/casa-reynal-1.jpg
END:VEVENT
END:VCALENDAR