BEGIN:VCALENDAR
VERSION:2.0
PRODID:-//Octubre Centre de Cultura Contemporània - ECPv5.1.6//NONSGML v1.0//EN
CALSCALE:GREGORIAN
METHOD:PUBLISH
X-WR-CALNAME:Octubre Centre de Cultura Contemporània
X-ORIGINAL-URL:https://octubre.cat
X-WR-CALDESC:Events for Octubre Centre de Cultura Contemporània
BEGIN:VTIMEZONE
TZID:Europe/Andorra
BEGIN:DAYLIGHT
TZOFFSETFROM:+0100
TZOFFSETTO:+0200
TZNAME:CEST
DTSTART:20250330T010000
END:DAYLIGHT
BEGIN:STANDARD
TZOFFSETFROM:+0200
TZOFFSETTO:+0100
TZNAME:CET
DTSTART:20251026T010000
END:STANDARD
END:VTIMEZONE
BEGIN:VEVENT
DTSTART;TZID=Europe/Andorra:20250521T180000
DTEND;TZID=Europe/Andorra:20250521T180000
DTSTAMP:20260420T160936
CREATED:20250210T122559Z
LAST-MODIFIED:20250210T122631Z
UID:22303-1747850400-1747850400@octubre.cat
SUMMARY:Cinema: Campi qui pugui\, d’Alexe Poukine
DESCRIPTION:El món hospitalari encarna la duresa de la realitat. A priori\, no hi associem espontàniament la ficció ni el joc\, però\, a Suïssa\, aquests es fan servir com a part de la formació d’estudiants i professionals mèdics per preparar-los per afrontar situacions on hauran de donar males notícies als pacients i els seus familiars. Alexe Poukine filma els tallers on el personal mèdic posa a prova la seva empatia i on també es deconstrueixen prejudicis susceptibles de perjudicar la precisió de la interpretació de les anàlisis clíniques. Campi qui pugui posa així de manifest el patiment dels cuidadors i el personal mèdic sotmesos a les inclemències del liberalisme i\, al mateix temps\, posa en qüestió la responsabilitat de cadascú davant un “sistema de maltractament generalitzat”. \n  \n \n  \nDirecció: Alexe Poukine\nTítol original: Sauve qui peut\nProducció: Andana Films\, Benoit Roland i Belgique – Wrong Men\nSuïssa\, Bèlgica\, França\, 2024\nVO en francès subtitulada en català\nDurada: 98’ \n  \n \nCicle “Acció Documental +” organitzat per ACICOM i ACPV. DocsBarcelona / El documental del mes.
URL:https://octubre.cat/activitat/cinema-campi-qui-pugui-dalexe-poukine/
LOCATION:Sala d’actes
CATEGORIES:Acció Documental +
ATTACH;FMTTYPE=image/jpeg:https://octubre.cat/www/wp-content/uploads/2025/02/poukine-1.jpg
END:VEVENT
END:VCALENDAR