BEGIN:VCALENDAR
VERSION:2.0
PRODID:-//Octubre Centre de Cultura Contemporània - ECPv5.1.6//NONSGML v1.0//EN
CALSCALE:GREGORIAN
METHOD:PUBLISH
X-WR-CALNAME:Octubre Centre de Cultura Contemporània
X-ORIGINAL-URL:https://octubre.cat
X-WR-CALDESC:Events for Octubre Centre de Cultura Contemporània
BEGIN:VTIMEZONE
TZID:Europe/Andorra
BEGIN:DAYLIGHT
TZOFFSETFROM:+0100
TZOFFSETTO:+0200
TZNAME:CEST
DTSTART:20220327T010000
END:DAYLIGHT
BEGIN:STANDARD
TZOFFSETFROM:+0200
TZOFFSETTO:+0100
TZNAME:CET
DTSTART:20221030T010000
END:STANDARD
END:VTIMEZONE
BEGIN:VEVENT
DTSTART;TZID=Europe/Andorra:20220209T190000
DTEND;TZID=Europe/Andorra:20220209T190000
DTSTAMP:20260420T141312
CREATED:20220110T190838Z
LAST-MODIFIED:20220120T100753Z
UID:17610-1644433200-1644433200@octubre.cat
SUMMARY:Cinema: Are you there?\, de Maartje Nevejan
DESCRIPTION:Projecció del Millor Llargmetratge Documental\, Biennal Dona i Cinema 2021 \nUn viatge poètic a l’interior del jo sobre l’“absència” a l’epilèpsia. Havent tingut “absències” ella mateixa quan era xiqueta\, la directora Nevejan desafia el paradigma científic sobre que no hi ha consciència durant una convulsió\, preguntant: “Si no ets allà\, on ets?”\nEls joves amb crisi d’absència estan vinculats amb el seu propi artista personal i junts en la co-creació fan i exploren els mons als que van quan se’n van. Podrien aquests forats a les seues vides esdevenir portals cap a nous coneixements?\nA la pel·lícula ens trobem amb neuròlegs\, cosmòlegs\, artistes –entre ells Anish Kapoor–\, llops salvatges\, forats negres i màquines tecnològiques. Com se sent\, sap\, sona i fa olor la nostra experiència? Com es desenvolupen aquestes imatges internes? Són reals?\nUna recerca poètica en el punt de trobada entre l’Art i la Ciència\, la pel·lícula és part d’un projecte transmèdia molt més gran que conté exposicions\, esdeveniments Art en Science\, un llibre i una experiència de realitat virtual. \nDirecció: Maartje Nevejan (2020)\nPaïsos Baixos\nVersió original subtitulada en castellà i anglès\nDurada: 90’ \n  \n \n  \nMaartje Nevejan resideix a Àmsterdam\, és una cineasta independent guardonada i nominada a l’Emmy\, amb experiència en el món del teatre i del multimèdia. En els seus projectes li agrada investigar la qualitat poètica (crua) de la realitat. Nevejan també és impulsora de canvis socials innovadors. Les pel·lícules i els projectes de Nevejan són atrevits\, divertits\, esquinçadors i\, molt sovint\, canvien a les persones que participen en ells. Les seues pel·lícules no només es projecten en televisió i en cinemes\, sinó que també s’utilitzen en moltes conferències polítiques i cimeres artístiques i científiques de tot el món. \n  \n \n—\nPalmarès Dona i Cinema és un cicle de cinema que inclou les pel·lícules guanyadores de l’anterior edició de la Biennal Dona i Cinema. Amb la col·laboració de l’Octubre CCC.
URL:https://octubre.cat/activitat/cinema-are-you-there-de-maartje-nevejan/
LOCATION:Sala d’actes
CATEGORIES:Palmarès Dona i Cinema
ATTACH;FMTTYPE=image/jpeg:https://octubre.cat/www/wp-content/uploads/2022/01/frame1_IK-BEN-ER-EVEN-NIET-dir.-Nevejan.jpg
END:VEVENT
END:VCALENDAR