BEGIN:VCALENDAR
VERSION:2.0
PRODID:-//Octubre Centre de Cultura Contemporània - ECPv5.1.6//NONSGML v1.0//EN
CALSCALE:GREGORIAN
METHOD:PUBLISH
X-WR-CALNAME:Octubre Centre de Cultura Contemporània
X-ORIGINAL-URL:https://octubre.cat
X-WR-CALDESC:Events for Octubre Centre de Cultura Contemporània
BEGIN:VTIMEZONE
TZID:Europe/Andorra
BEGIN:DAYLIGHT
TZOFFSETFROM:+0100
TZOFFSETTO:+0200
TZNAME:CEST
DTSTART:20110327T010000
END:DAYLIGHT
BEGIN:STANDARD
TZOFFSETFROM:+0200
TZOFFSETTO:+0100
TZNAME:CET
DTSTART:20111030T010000
END:STANDARD
END:VTIMEZONE
BEGIN:VEVENT
DTSTART;TZID=Europe/Andorra:20110511T190000
DTEND;TZID=Europe/Andorra:20110511T190000
DTSTAMP:20260421T000822
CREATED:20200729T165441Z
LAST-MODIFIED:20200730T042744Z
UID:9183-1305140400-1305140400@octubre.cat
SUMMARY:Cicle AIQ: Química amenaçadora
DESCRIPTION:Dimecres 11 de maig\, a les 19.30h: Cicle AIQ. “Tòxics o Salut? Què passa al País Valencià?”\, a càrrec de Joan O. Grimalt (Dept. Química Ambiental. Institut de Diagnosi Ambiental i Estudis de l’Aigua. CSIC-Barcelona)  \n  \n  \n\nTòxics o Salut? Què passa al País Valencià? Conferència a càrrec de Joan O. Grimalt (Departament de Química Ambiental. Institut de Diagnosi Ambiental i Estudis de l’Aigua. Consell Superior d’Investigacions Científiques-Barcelona).   Els compostos químics han proporcionat molts avantatges al desenvolupament de la nostra civilització. Són una peça fonamental per al desenvolupament i consolidació de la revolució industrial que ha donat lloc a una gran millora de les condicions de vida de la humanitat. Per altra banda\, alguns d’aquests compostos també han estat la causa de molts problemes ambientals i per a la salut humana. En aquesta conferència parlarem d’alguns d’aquests compostos\, per exemple el DDT i altres\, i veurem quins problemes específics ha comportat i comporten avui dia al País Valencià.  Joan O. Grimalt és Professor d’Investigació del Consell Superior d’Investigacions Científiques i Director de l’Institut de Diagnosi Ambiental i Estudis de l’Aigua d’aquest organisme. També és president de la Societat Espanyola de Cromatografia i Tècniques Afins. Rebé el premi Jaume I de Protecció de la Natura l’any 2005. El seu camp de treball és la investigació de la informació continguda en els compostos orgànics en el medi ambient\, tant els naturals com els contaminants. Ha dirigit més de 40 tesis doctorals sobre aquesta temàtica. Ha publicat més de 520 treballs científics\, la majoria en revistes internacionals.
URL:https://octubre.cat/activitat/cicle-aiq-quimica-amenacadora/
LOCATION:No definit
CATEGORIES:Espai Ciència
ATTACH;FMTTYPE=image/jpeg:https://octubre.cat/www/wp-content/uploads/2020/07/activitat1407.jpg
END:VEVENT
END:VCALENDAR