BEGIN:VCALENDAR
VERSION:2.0
PRODID:-//Octubre Centre de Cultura Contemporània - ECPv5.1.6//NONSGML v1.0//EN
CALSCALE:GREGORIAN
METHOD:PUBLISH
X-WR-CALNAME:Octubre Centre de Cultura Contemporània
X-ORIGINAL-URL:https://octubre.cat
X-WR-CALDESC:Events for Octubre Centre de Cultura Contemporània
BEGIN:VTIMEZONE
TZID:Europe/Andorra
BEGIN:DAYLIGHT
TZOFFSETFROM:+0100
TZOFFSETTO:+0200
TZNAME:CEST
DTSTART:20160327T010000
END:DAYLIGHT
BEGIN:STANDARD
TZOFFSETFROM:+0200
TZOFFSETTO:+0100
TZNAME:CET
DTSTART:20161030T010000
END:STANDARD
END:VTIMEZONE
BEGIN:VEVENT
DTSTART;TZID=Europe/Andorra:20160205T000000
DTEND;TZID=Europe/Andorra:20160229T000000
DTSTAMP:20260421T165213
CREATED:20200729T171618Z
LAST-MODIFIED:20200903T161429Z
UID:10516-1454630400-1456704000@octubre.cat
SUMMARY:'China 444'\, d'Assad Kassab
DESCRIPTION:Inauguració: divendres 5 de febrer a les 20.00h. \n“China 444” és una clara al·legoria al renaixement del gegant asiàtic\, la columna vertebral del qual està sempre recta davant del creixement i la prosperitat\, i se salta els tòpics i les supersticions ancestrals que segueixen pesant sobre la seua població. 444 és un número fetitxe per a l’artista Assad Kassab\, un número que el persegueix des de fa anys i que ara torna a trobar a través de la simbologia xinesa. Un número que\, per a ell\, sempre és de bon auguri i de bona sort. En el món xinès no passa el mateix\, ja que l’eviten per la seua fonètica. \nInstal·lació realitzada amb motiu de l’Any Nou xinès per l’Institut Confuci de la Universitat de València amb la col·laboració de l’Octubre CCC. Comissària: Lupe Frígols.
URL:https://octubre.cat/activitat/china-444-dassad-kassab/
LOCATION:Hall
CATEGORIES:Instal·lacions
ATTACH;FMTTYPE=image/jpeg:https://octubre.cat/www/wp-content/uploads/2020/07/activitat2506.jpg
END:VEVENT
END:VCALENDAR