BEGIN:VCALENDAR
VERSION:2.0
PRODID:-//Octubre Centre de Cultura Contemporània - ECPv5.1.6//NONSGML v1.0//EN
CALSCALE:GREGORIAN
METHOD:PUBLISH
X-WR-CALNAME:Octubre Centre de Cultura Contemporània
X-ORIGINAL-URL:https://octubre.cat
X-WR-CALDESC:Events for Octubre Centre de Cultura Contemporània
BEGIN:VTIMEZONE
TZID:Europe/Andorra
BEGIN:DAYLIGHT
TZOFFSETFROM:+0100
TZOFFSETTO:+0200
TZNAME:CEST
DTSTART:20080330T010000
END:DAYLIGHT
BEGIN:STANDARD
TZOFFSETFROM:+0200
TZOFFSETTO:+0100
TZNAME:CET
DTSTART:20081026T010000
END:STANDARD
END:VTIMEZONE
BEGIN:VEVENT
DTSTART;TZID=Europe/Andorra:20081029T190000
DTEND;TZID=Europe/Andorra:20081029T190000
DTSTAMP:20260420T223059
CREATED:20200729T182109Z
LAST-MODIFIED:20200730T035852Z
UID:12708-1225306800-1225306800@octubre.cat
SUMMARY:Chill Laus amb Dan Peisajovich
DESCRIPTION:Dimecres 29 d’octubre\, a les 19.00h: Dan Peisajovich (Control Escola de Creatius)  \n  \n  \n\nDan Peisajovich és el coordinador de Complot\, escola de creatius feta per creatius. Llicenciat en Publicitat i Comunicació Estratègica\, va treballar a nombroses agències com a copy-writer fins que va arribar a ser el responsable del departament creatiu de Rapp Collins a Buenos Aires. Emigrat a Barcelona el 2002\, actualment imparteix classes en el màster de publicitat de l’Institut Europeu del Disseny (IED). Va treballar també a CP Comunicación Proximity Barcelona (del grup BBDO) i també\, com a director creatiu\, a Pavlov Barcelona.  Organtizat per l’ADCV amb la col·laboració de l’Octubre CCC. Més informació al mail prensa@adcv.com
URL:https://octubre.cat/activitat/chill-laus-amb-dan-peisajovich/
LOCATION:No definit
CATEGORIES:Literatura
ATTACH;FMTTYPE=image/jpeg:https://octubre.cat/www/wp-content/uploads/2020/07/activitat700.jpg
END:VEVENT
END:VCALENDAR