BEGIN:VCALENDAR
VERSION:2.0
PRODID:-//Octubre Centre de Cultura Contemporània - ECPv5.1.6//NONSGML v1.0//EN
CALSCALE:GREGORIAN
METHOD:PUBLISH
X-WR-CALNAME:Octubre Centre de Cultura Contemporània
X-ORIGINAL-URL:https://octubre.cat
X-WR-CALDESC:Events for Octubre Centre de Cultura Contemporània
BEGIN:VTIMEZONE
TZID:Europe/Andorra
BEGIN:DAYLIGHT
TZOFFSETFROM:+0100
TZOFFSETTO:+0200
TZNAME:CEST
DTSTART:20080330T010000
END:DAYLIGHT
BEGIN:STANDARD
TZOFFSETFROM:+0200
TZOFFSETTO:+0100
TZNAME:CET
DTSTART:20081026T010000
END:STANDARD
END:VTIMEZONE
BEGIN:VEVENT
DTSTART;TZID=Europe/Andorra:20081126T193000
DTEND;TZID=Europe/Andorra:20081126T193000
DTSTAMP:20260420T171736
CREATED:20200730T035912Z
LAST-MODIFIED:20200730T035912Z
UID:14044-1227727800-1227727800@octubre.cat
SUMMARY:Chill Laus amb Cocoe
DESCRIPTION:Dimecres 26 de novembre a les 19.30h  \n  \n  \n\nCocoe naix gràcies a la sinergia de Jean Duprez i Gabriel Suchowlski\, tots dos especialistes en el tractament del detall. S’han especialitzat principalment en realització de vídeo\, animació\, motion graphics i il·lustració i han treballat per a agències com Contrapunto\, TWBA\, Revolution\, WYSIWIG* o Sra. Rushmore; per a segells discogràfics com Bus\, Dro\, Elefant Records i Globomedia Música i per a cadenes de televisió com Cuatro i laSexta. Recentment han realitzat posts de motions graphics per a El País\, Agatha Ruíz de la Prada o Burger King. A banda de l’àmbit comercial\, treballen també en l’artístic amb la promoció d’instal·lacions\, performances i exposicions de vídeo creatiu i han participat en el festival OFFF.  Organtizat per l’ADCV amb la col·laboració de l’Octubre CCC. Més informació al mail prensa@adcv.com
URL:https://octubre.cat/activitat/chill-laus-amb-cocoe/
LOCATION:No definit
CATEGORIES:Literatura
ATTACH;FMTTYPE=image/jpeg:https://octubre.cat/www/wp-content/uploads/2020/07/presentacions1.jpg
END:VEVENT
END:VCALENDAR