BEGIN:VCALENDAR
VERSION:2.0
PRODID:-//Octubre Centre de Cultura Contemporània - ECPv5.1.6//NONSGML v1.0//EN
CALSCALE:GREGORIAN
METHOD:PUBLISH
X-WR-CALNAME:Octubre Centre de Cultura Contemporània
X-ORIGINAL-URL:https://octubre.cat
X-WR-CALDESC:Events for Octubre Centre de Cultura Contemporània
BEGIN:VTIMEZONE
TZID:Europe/Andorra
BEGIN:DAYLIGHT
TZOFFSETFROM:+0100
TZOFFSETTO:+0200
TZNAME:CEST
DTSTART:20100328T010000
END:DAYLIGHT
BEGIN:STANDARD
TZOFFSETFROM:+0200
TZOFFSETTO:+0100
TZNAME:CET
DTSTART:20101031T010000
END:STANDARD
END:VTIMEZONE
BEGIN:VEVENT
DTSTART;TZID=Europe/Andorra:20101124T193000
DTEND;TZID=Europe/Andorra:20101124T193000
DTSTAMP:20260420T182654
CREATED:20200729T165217Z
LAST-MODIFIED:20200730T042626Z
UID:9034-1290627000-1290627000@octubre.cat
SUMMARY:Chill Laus amb Bendita Gloria
DESCRIPTION:Dimecres 24 de novembre\, a les 19.30h: Bendita Gloria (Barcelona).   \n  \n  \n\nBendita Gloria són Alba Rosell i Santi Fuster. Fundaren l’estudi a Barcelona el 2007 i a hores d’ara\, continuen sent una miniestructura de dues persones.   Molt interessats per la part objectual del disseny gràfic\, miren d’aconseguir que les peces empatitzen amb les persones. Les seues creacions s’allunyen d’estructures rígides definides i reivindiquen la filosofia del DIY (do it yourself).   El seu estil advoca pel concepte i aposta per un disseny manual estil home made. Els seus treballs\, en ocasions controvertits\, subratllen que hi ha altres modes de fer\, altres camins possibles. Vuit premis Laus\, dos d’ells d’or\, semblen recolzar la seua decisió d’acabar amb les convencions.   _ Ens agrada el disseny gràfic\, les arts gràfiques i les manualitats. _ Adorem als clients petits i els grans no ens fan por. _ Ens entusiasmem amb cada encàrrec. _ Treballem des del respecte a la professió i al públic objectiu de cada projecte. _ Si ens equivoquem\, sabem començar de nou. _ Ens agraden els projectes col·laboratius.  Som agnòstics. Ens veurem a la glòria.  SUSPÈS!
URL:https://octubre.cat/activitat/chill-laus-amb-bendita-gloria/
LOCATION:No definit
CATEGORIES:Literatura
ATTACH;FMTTYPE=image/jpeg:https://octubre.cat/www/wp-content/uploads/2020/07/activitat1306.jpg
END:VEVENT
END:VCALENDAR