BEGIN:VCALENDAR
VERSION:2.0
PRODID:-//Octubre Centre de Cultura Contemporània - ECPv5.1.6//NONSGML v1.0//EN
CALSCALE:GREGORIAN
METHOD:PUBLISH
X-WR-CALNAME:Octubre Centre de Cultura Contemporània
X-ORIGINAL-URL:https://octubre.cat
X-WR-CALDESC:Events for Octubre Centre de Cultura Contemporània
BEGIN:VTIMEZONE
TZID:Europe/Andorra
BEGIN:DAYLIGHT
TZOFFSETFROM:+0100
TZOFFSETTO:+0200
TZNAME:CEST
DTSTART:20100328T010000
END:DAYLIGHT
BEGIN:STANDARD
TZOFFSETFROM:+0200
TZOFFSETTO:+0100
TZNAME:CET
DTSTART:20101031T010000
END:STANDARD
END:VTIMEZONE
BEGIN:VEVENT
DTSTART;TZID=Europe/Andorra:20101211T190000
DTEND;TZID=Europe/Andorra:20101211T190000
DTSTAMP:20260421T001004
CREATED:20200729T165253Z
LAST-MODIFIED:20200730T042642Z
UID:9074-1292094000-1292094000@octubre.cat
SUMMARY:Chikako Kitajima (Japó) / Santiago López (València) / Analía Beltrán (Madrid)
DESCRIPTION:Dissabte 11 de desembre a les 19.00h: performances a càrrec de Chikako Kitajima (Japó)\, Santiago López (València) i Analía Beltrán (Madrid)  \n  \n  \n\nChikako Kitajima va estudiar dansa tradicional japonesa i expressió corporal en el teatre experimental. En els 90\, a través del Nippon International Performance Art Festival (NIPAF)\, va tenir l’oportunitat de viatjar a València\, on es va formar en l’art de la performance amb Bartolomé Ferrando. Actualment\, practica la dansa africana\, el tambor japonès i la dansa contemporània i organitza el Minomushi Art Festival al temple Hase (Nagano). La seua obra indaga en les possibilitats del cos i del moviment\, usa diversos tipus de música i suggereix conceptes que modifiquen la idea de la dansa\, com s’entén tradicionalment.   Santiago López\, fill de la indústria metal·lúrgica saguntina\, guitarrista de diversos grups punk. Les seues accions s’han mostrat a la Fira Internacional Expotrastiendas 2008\, a Buenos Aires\, durant una conferència sota el títol “Pelant cebes”. Un títol que sintetitzava les accions reivindicatives que l’artista executa. Denuncia passatges contemporanis\, agredeix satíricament les actituds opressores. Immers en la percepció d’una sintonia contínua\, no compon sons\, sinó que els genera mitjançant l’acció corporal. El propòsit no és generar so\, ja que durant l’acció sorgeix amb espontaneïtat. Sols cal tenir una predisposició acústica cap als esdeveniments sonors imprevisibles.   Analía Beltrán és llicenciada en Belles Arts i treballa en vídeo i fotografia. Des de 2001\, però\, està centrada principalment en l’art d’acció. Viu a Madrid\, on desenvolupa la major part del seu treball en diferents espais i esdeveniments. En les seues performances s’interessa per la identitat\, analitzant les facetes masculines i femenines que cada individu posseïx\, la fragilitat dels éssers humans\, la violència i el joc de poder\, i especialment com els pateixen dones i nens\, com a membres més indefensos de la societat.
URL:https://octubre.cat/activitat/chikako-kitajima-japo-santiago-lopez-valencia-analia-beltran-madrid/
LOCATION:No definit
CATEGORIES:Arrt d'Accció
ATTACH;FMTTYPE=image/jpeg:https://octubre.cat/www/wp-content/uploads/2020/07/activitat1326.jpg
END:VEVENT
END:VCALENDAR